BEGIN:VCALENDAR
VERSION:2.0
PRODID:-//Alumnae Association - ECPv6.15.20//NONSGML v1.0//EN
CALSCALE:GREGORIAN
METHOD:PUBLISH
X-ORIGINAL-URL:https://alumnae.mtholyoke.edu
X-WR-CALDESC:Events for Alumnae Association
REFRESH-INTERVAL;VALUE=DURATION:PT1H
X-Robots-Tag:noindex
X-PUBLISHED-TTL:PT1H
BEGIN:VTIMEZONE
TZID:America/New_York
BEGIN:DAYLIGHT
TZOFFSETFROM:-0500
TZOFFSETTO:-0400
TZNAME:EDT
DTSTART:20140309T070000
END:DAYLIGHT
BEGIN:STANDARD
TZOFFSETFROM:-0400
TZOFFSETTO:-0500
TZNAME:EST
DTSTART:20141102T060000
END:STANDARD
BEGIN:DAYLIGHT
TZOFFSETFROM:-0500
TZOFFSETTO:-0400
TZNAME:EDT
DTSTART:20150308T070000
END:DAYLIGHT
BEGIN:STANDARD
TZOFFSETFROM:-0400
TZOFFSETTO:-0500
TZNAME:EST
DTSTART:20151101T060000
END:STANDARD
BEGIN:DAYLIGHT
TZOFFSETFROM:-0500
TZOFFSETTO:-0400
TZNAME:EDT
DTSTART:20160313T070000
END:DAYLIGHT
BEGIN:STANDARD
TZOFFSETFROM:-0400
TZOFFSETTO:-0500
TZNAME:EST
DTSTART:20161106T060000
END:STANDARD
END:VTIMEZONE
BEGIN:VEVENT
DTSTART;VALUE=DATE:20151105
DTEND;VALUE=DATE:20151108
DTSTAMP:20260419T141026
CREATED:20150923T130739Z
LAST-MODIFIED:20151007T193702Z
UID:35237-1446681600-1446940799@alumnae.mtholyoke.edu
SUMMARY:Women Leading in Public Service Summit 2015
DESCRIPTION:A Seat at the Table: November 5–7\, 2015\nThe Women Leading in Public Service Summit unites alumnae\, former Victoria Schuck interns\, Mount Holyoke faculty\, staff\, students\, and scholars from around the world for a multidisciplinary summit on women and public service. The three-day event features panels\, discussions\, and networking opportunities for alumnae\, faculty\, and current students. \nFor details on the event and to RSVP\, visit the College’s website here.
URL:https://alumnae.mtholyoke.edu/event/women-leading-in-public-service-summit-2015/
LOCATION:Mount Holyoke College\, 50 College St\, South Hadley\, MA\, 01075\, United States
CATEGORIES:College
END:VEVENT
END:VCALENDAR