BEGIN:VCALENDAR
VERSION:2.0
PRODID:-//Alumnae Association - ECPv6.15.20//NONSGML v1.0//EN
CALSCALE:GREGORIAN
METHOD:PUBLISH
X-ORIGINAL-URL:https://alumnae.mtholyoke.edu
X-WR-CALDESC:Events for Alumnae Association
REFRESH-INTERVAL;VALUE=DURATION:PT1H
X-Robots-Tag:noindex
X-PUBLISHED-TTL:PT1H
BEGIN:VTIMEZONE
TZID:America/New_York
BEGIN:DAYLIGHT
TZOFFSETFROM:-0500
TZOFFSETTO:-0400
TZNAME:EDT
DTSTART:20140309T070000
END:DAYLIGHT
BEGIN:STANDARD
TZOFFSETFROM:-0400
TZOFFSETTO:-0500
TZNAME:EST
DTSTART:20141102T060000
END:STANDARD
BEGIN:DAYLIGHT
TZOFFSETFROM:-0500
TZOFFSETTO:-0400
TZNAME:EDT
DTSTART:20150308T070000
END:DAYLIGHT
BEGIN:STANDARD
TZOFFSETFROM:-0400
TZOFFSETTO:-0500
TZNAME:EST
DTSTART:20151101T060000
END:STANDARD
BEGIN:DAYLIGHT
TZOFFSETFROM:-0500
TZOFFSETTO:-0400
TZNAME:EDT
DTSTART:20160313T070000
END:DAYLIGHT
BEGIN:STANDARD
TZOFFSETFROM:-0400
TZOFFSETTO:-0500
TZNAME:EST
DTSTART:20161106T060000
END:STANDARD
END:VTIMEZONE
BEGIN:VTIMEZONE
TZID:Asia/Dubai
BEGIN:STANDARD
TZOFFSETFROM:+0400
TZOFFSETTO:+0400
TZNAME:+04
DTSTART:20140101T000000
END:STANDARD
END:VTIMEZONE
BEGIN:VEVENT
DTSTART;VALUE=DATE:20151113
DTEND;VALUE=DATE:20151116
DTSTAMP:20260422T230446
CREATED:20150716T195215Z
LAST-MODIFIED:20151113T165705Z
UID:31330-1447372800-1447631999@alumnae.mtholyoke.edu
SUMMARY:Black Alumnae Conference
DESCRIPTION:Join us at the 2015 Black Alumnae Conference as we reconnect\, celebrate\, and engage with our dynamic Mount Holyoke Black Alumnae Network. Our alumnae will gather on campus this fall to reflect on our holistic well-being as women\, our interconnectedness as current students and alumnae\, and our communities’ responses to national social injustices. Let’s come together and celebrate our past\, present\, and future achievements. \nClick here to learn more.
URL:https://alumnae.mtholyoke.edu/event/black-alumnae-conference-2/
LOCATION:Mount Holyoke College\, 50 College Street\, South Hadley\, MA\, 01075\, United States
CATEGORIES:Alumnae Association
END:VEVENT
BEGIN:VEVENT
DTSTART;TZID=Asia/Dubai:20151113T180000
DTEND;TZID=Asia/Dubai:20151113T200000
DTSTAMP:20260422T230446
CREATED:20150929T162518Z
LAST-MODIFIED:20150929T162518Z
UID:35447-1447437600-1447444800@alumnae.mtholyoke.edu
SUMMARY:Cocktail Reception with Chuck Ramsay (Dubai)
DESCRIPTION:Building Community and Innovation at Mount Holyoke College \nPromit and Shruti Ghose\, parents of Ragini Ghose\, class of 2019\, cordially invite you to a cocktail reception with Chuck Ramsay\, director of International Advancement at Mount Holyoke College. \nFriday\, November 13\, 2015\n6:00–8:00 p.m. \nFor more information\, please contact Roger Gove. \nRSVP here
URL:https://alumnae.mtholyoke.edu/event/cocktail-reception-with-chuck-ramsay-dubai/
LOCATION:Unnamed Venue\, Dubai
CATEGORIES:College
END:VEVENT
BEGIN:VEVENT
DTSTART;TZID=America/New_York:20151114T094500
DTEND;TZID=America/New_York:20151114T094500
DTSTAMP:20260422T230446
CREATED:20151016T133825Z
LAST-MODIFIED:20151016T133825Z
UID:36368-1447494300-1447494300@alumnae.mtholyoke.edu
SUMMARY:Club of Atlanta Beltline Tour (Atlanta\, GA)
DESCRIPTION:Join us on a Saturday morning for an Atlanta BeltLine Arboretum Walking Tour led by a Trees Atlanta Docent. The tour will provide an up-close view of the Eastside Trail and the Atlanta BeltLine Arboretum. The tour steps off at 10:00 a.m. and will end at 11:30 a.m. at the new Ponce City Market. We will walk along an even-grade and paved trail for about one mile. We will follow up with informal gathering for brunch together at the Food Hall at Ponce City Market. The tour starts in Inman Park in downtown Atlanta. \nThe tour is free\, but reservations are required. We will register as a group\, and it is OK to bring a companion. \nArrival time: 9:45 a.m.\nStart Location: 240 N. Highland Avenue\, Atlanta 30307 behind Parish Restaurant \nPlease RSVP by November 4\, and you will be provided more details. \nRSVP and Questions\nTerri Kruzan\n\nContact us if you need to carpool or have transportation challenges.
URL:https://alumnae.mtholyoke.edu/event/club-of-atlanta-beltline-tour-atlanta-ga/
LOCATION:Unnamed Venue\, 240 N. Highland Avenue\, Atlanta\, GA\, 30307\, United States
CATEGORIES:Club
END:VEVENT
BEGIN:VEVENT
DTSTART;TZID=America/New_York:20151114T113000
DTEND;TZID=America/New_York:20151114T113000
DTSTAMP:20260422T230446
CREATED:20151008T122849Z
LAST-MODIFIED:20151022T141453Z
UID:35825-1447500600-1447500600@alumnae.mtholyoke.edu
SUMMARY:Club of Southwest Florida Lunch and Lecture (Sarasota\, FL)
DESCRIPTION:Have you ever encountered any conflict in your life? If so\, you’ll want to join us on November 14 to hear MHC Professor Karen Remmler’s talk entitled “Women’s Role in Transforming Conflict Worldwide.” Remmler is professor of German students\, critical social thought\, and gender studies at Mount Holyoke. From 2011 to 2014 she served as director of the Five College Women’s Studies Research Center\, an international center for collaborative work in feminist scholarship\, teaching\, and activism. \nThis is a joint program between Mount Holyoke College\, Smith College\, and Simmons College. \nRSVP to Georgia Walters and for more information please contact Suzanne Janney\, program chair.
URL:https://alumnae.mtholyoke.edu/event/club-of-southwest-florida-lunch-and-lecture-sarasota-fl/
CATEGORIES:Club
END:VEVENT
END:VCALENDAR