BEGIN:VCALENDAR
VERSION:2.0
PRODID:-//Alumnae Association - ECPv6.15.20//NONSGML v1.0//EN
CALSCALE:GREGORIAN
METHOD:PUBLISH
X-WR-CALNAME:Alumnae Association
X-ORIGINAL-URL:https://alumnae.mtholyoke.edu
X-WR-CALDESC:Events for Alumnae Association
REFRESH-INTERVAL;VALUE=DURATION:PT1H
X-Robots-Tag:noindex
X-PUBLISHED-TTL:PT1H
BEGIN:VTIMEZONE
TZID:America/Los_Angeles
BEGIN:DAYLIGHT
TZOFFSETFROM:-0800
TZOFFSETTO:-0700
TZNAME:PDT
DTSTART:20140309T100000
END:DAYLIGHT
BEGIN:STANDARD
TZOFFSETFROM:-0700
TZOFFSETTO:-0800
TZNAME:PST
DTSTART:20141102T090000
END:STANDARD
BEGIN:DAYLIGHT
TZOFFSETFROM:-0800
TZOFFSETTO:-0700
TZNAME:PDT
DTSTART:20150308T100000
END:DAYLIGHT
BEGIN:STANDARD
TZOFFSETFROM:-0700
TZOFFSETTO:-0800
TZNAME:PST
DTSTART:20151101T090000
END:STANDARD
BEGIN:DAYLIGHT
TZOFFSETFROM:-0800
TZOFFSETTO:-0700
TZNAME:PDT
DTSTART:20160313T100000
END:DAYLIGHT
BEGIN:STANDARD
TZOFFSETFROM:-0700
TZOFFSETTO:-0800
TZNAME:PST
DTSTART:20161106T090000
END:STANDARD
END:VTIMEZONE
BEGIN:VTIMEZONE
TZID:America/New_York
BEGIN:DAYLIGHT
TZOFFSETFROM:-0500
TZOFFSETTO:-0400
TZNAME:EDT
DTSTART:20140309T070000
END:DAYLIGHT
BEGIN:STANDARD
TZOFFSETFROM:-0400
TZOFFSETTO:-0500
TZNAME:EST
DTSTART:20141102T060000
END:STANDARD
BEGIN:DAYLIGHT
TZOFFSETFROM:-0500
TZOFFSETTO:-0400
TZNAME:EDT
DTSTART:20150308T070000
END:DAYLIGHT
BEGIN:STANDARD
TZOFFSETFROM:-0400
TZOFFSETTO:-0500
TZNAME:EST
DTSTART:20151101T060000
END:STANDARD
BEGIN:DAYLIGHT
TZOFFSETFROM:-0500
TZOFFSETTO:-0400
TZNAME:EDT
DTSTART:20160313T070000
END:DAYLIGHT
BEGIN:STANDARD
TZOFFSETFROM:-0400
TZOFFSETTO:-0500
TZNAME:EST
DTSTART:20161106T060000
END:STANDARD
END:VTIMEZONE
BEGIN:VEVENT
DTSTART;TZID=America/Los_Angeles:20151213T140000
DTEND;TZID=America/Los_Angeles:20151213T140000
DTSTAMP:20260421T151455
CREATED:20151026T124752Z
LAST-MODIFIED:20151026T124752Z
UID:36825-1450015200-1450015200@alumnae.mtholyoke.edu
SUMMARY:Club of the Peninsula Menlowe Ballet (Atherton\, CA)
DESCRIPTION:Menlowe Ballet unveils the world premiere of Michael Lowe’s It’s a Wonderful Nutcracker at Menlo-Atherton Performing Arts Center\, 555 Middlefield Road\, Atherton\, CA. Inspired by Frank Capra’s classic film It’s a Wonderful Life\, Menlowe’s It’s a Wonderful Nutcracker is set in the 1940s and boasts all the magical trimmings of a traditional Nutcracker enhanced with a heartwarming message about family and what’s truly meaningful about the holidays. \nFor tickets to the Sunday\, December 13\, 2:00 p.m. matinee reserved seating (fourteen seats currently being held) for Mount Holyoke College alumnae and guests contact: executive director\, Lisa Piniella Shiveley ’88. To sit in the MHC section\, please contact her directly with form of payment.
URL:https://alumnae.mtholyoke.edu/event/club-of-the-peninsula-menlowe-ballet-atherton-ca/
LOCATION:Menlo-Atherton Performing Arts Center\, 555 Middlefield Road\, Atherton\, CA\, United States
END:VEVENT
BEGIN:VEVENT
DTSTART;TZID=America/New_York:20151213T150000
DTEND;TZID=America/New_York:20151213T150000
DTSTAMP:20260421T151455
CREATED:20151119T160433Z
LAST-MODIFIED:20151119T160433Z
UID:38123-1450018800-1450018800@alumnae.mtholyoke.edu
SUMMARY:Club of NYC Alvin Ailey Performance (NYC)
DESCRIPTION:Get in the holiday spirit by treating yourself to an afternoon of dazzling dance and great company. We’ll enjoy the popular All Ailey program featuring four iconic works choreographed by Alvin Ailey\, including the tour-de-force solo Cry – dedicated “to all Black women everywhere\, especially our mothers” – and the joyous masterpiece\, Revelations. \nFollowing the performance we’ll go backstage to meet a dancer and see the inner-workings of the production. \nCost:  $75 for Members | $85 for Non-Members\nClick the links to buy your tickets online \nFull performance information
URL:https://alumnae.mtholyoke.edu/event/club-of-nyc-alvin-ailey-performance-nyc/
LOCATION:New York City Center\, 131 W. 55th Street (between 6th and 7th Avenues)\, New York\, NY\, United States
CATEGORIES:Club
END:VEVENT
END:VCALENDAR