BEGIN:VCALENDAR
VERSION:2.0
PRODID:-//Alumnae Association - ECPv6.15.20//NONSGML v1.0//EN
CALSCALE:GREGORIAN
METHOD:PUBLISH
X-WR-CALNAME:Alumnae Association
X-ORIGINAL-URL:https://alumnae.mtholyoke.edu
X-WR-CALDESC:Events for Alumnae Association
REFRESH-INTERVAL;VALUE=DURATION:PT1H
X-Robots-Tag:noindex
X-PUBLISHED-TTL:PT1H
BEGIN:VTIMEZONE
TZID:America/New_York
BEGIN:DAYLIGHT
TZOFFSETFROM:-0500
TZOFFSETTO:-0400
TZNAME:EDT
DTSTART:20140309T070000
END:DAYLIGHT
BEGIN:STANDARD
TZOFFSETFROM:-0400
TZOFFSETTO:-0500
TZNAME:EST
DTSTART:20141102T060000
END:STANDARD
BEGIN:DAYLIGHT
TZOFFSETFROM:-0500
TZOFFSETTO:-0400
TZNAME:EDT
DTSTART:20150308T070000
END:DAYLIGHT
BEGIN:STANDARD
TZOFFSETFROM:-0400
TZOFFSETTO:-0500
TZNAME:EST
DTSTART:20151101T060000
END:STANDARD
BEGIN:DAYLIGHT
TZOFFSETFROM:-0500
TZOFFSETTO:-0400
TZNAME:EDT
DTSTART:20160313T070000
END:DAYLIGHT
BEGIN:STANDARD
TZOFFSETFROM:-0400
TZOFFSETTO:-0500
TZNAME:EST
DTSTART:20161106T060000
END:STANDARD
END:VTIMEZONE
BEGIN:VTIMEZONE
TZID:America/Los_Angeles
BEGIN:DAYLIGHT
TZOFFSETFROM:-0800
TZOFFSETTO:-0700
TZNAME:PDT
DTSTART:20140309T100000
END:DAYLIGHT
BEGIN:STANDARD
TZOFFSETFROM:-0700
TZOFFSETTO:-0800
TZNAME:PST
DTSTART:20141102T090000
END:STANDARD
BEGIN:DAYLIGHT
TZOFFSETFROM:-0800
TZOFFSETTO:-0700
TZNAME:PDT
DTSTART:20150308T100000
END:DAYLIGHT
BEGIN:STANDARD
TZOFFSETFROM:-0700
TZOFFSETTO:-0800
TZNAME:PST
DTSTART:20151101T090000
END:STANDARD
BEGIN:DAYLIGHT
TZOFFSETFROM:-0800
TZOFFSETTO:-0700
TZNAME:PDT
DTSTART:20160313T100000
END:DAYLIGHT
BEGIN:STANDARD
TZOFFSETFROM:-0700
TZOFFSETTO:-0800
TZNAME:PST
DTSTART:20161106T090000
END:STANDARD
END:VTIMEZONE
BEGIN:VEVENT
DTSTART;TZID=America/New_York:20151215T163000
DTEND;TZID=America/New_York:20151215T173000
DTSTAMP:20260421T183211
CREATED:20151203T142751Z
LAST-MODIFIED:20151203T142751Z
UID:38933-1450197000-1450200600@alumnae.mtholyoke.edu
SUMMARY:Strawberries and Champagne (South Hadley\, MA)
DESCRIPTION:Warm up with a toast by the fire\n \nPlease join us for Strawberries and Champagne\, during which the Alumnae Association will toast the accomplishments of the senior class and welcome them into the worldwide alumnae community. \nStudents: If you would like to share this celebration with a special professor\, family member\, or friend\, please pass along the invitation. Please wear casual dress and bring two photo IDs (MHC ID and a driver’s license or passport). Non-alcoholic beverages will also be served. \nIf you have questions\, please contact Luisa Tavares.
URL:https://alumnae.mtholyoke.edu/event/strawberries-and-champagne-south-hadley-ma/
LOCATION:Willits-Hallowell Center Living Room\, South Hadley\, MA\, United States
CATEGORIES:Alumnae Association
END:VEVENT
BEGIN:VEVENT
DTSTART;TZID=America/Los_Angeles:20151215T180000
DTEND;TZID=America/Los_Angeles:20151215T200000
DTSTAMP:20260421T183211
CREATED:20151204T204646Z
LAST-MODIFIED:20151204T204646Z
UID:38997-1450202400-1450209600@alumnae.mtholyoke.edu
SUMMARY:Club of Northern California Holiday Happy Hour (San Francisco\, CA)
DESCRIPTION:Cash bar. We will be in the room to your right as you enter. Family and friends welcome. \nMore details can be found on our club’s Facebook page. \nPlease RSVP by December 11.
URL:https://alumnae.mtholyoke.edu/event/club-of-northern-california-holiday-happy-hour-san-francisco-ca/
LOCATION:John Colins\, 138 Minna Street\, San Francisco\, CA\, United States
CATEGORIES:Club
END:VEVENT
END:VCALENDAR