BEGIN:VCALENDAR
VERSION:2.0
PRODID:-//Alumnae Association - ECPv6.15.20//NONSGML v1.0//EN
CALSCALE:GREGORIAN
METHOD:PUBLISH
X-WR-CALNAME:Alumnae Association
X-ORIGINAL-URL:https://alumnae.mtholyoke.edu
X-WR-CALDESC:Events for Alumnae Association
REFRESH-INTERVAL;VALUE=DURATION:PT1H
X-Robots-Tag:noindex
X-PUBLISHED-TTL:PT1H
BEGIN:VTIMEZONE
TZID:America/New_York
BEGIN:DAYLIGHT
TZOFFSETFROM:-0500
TZOFFSETTO:-0400
TZNAME:EDT
DTSTART:20120311T070000
END:DAYLIGHT
BEGIN:STANDARD
TZOFFSETFROM:-0400
TZOFFSETTO:-0500
TZNAME:EST
DTSTART:20121104T060000
END:STANDARD
BEGIN:DAYLIGHT
TZOFFSETFROM:-0500
TZOFFSETTO:-0400
TZNAME:EDT
DTSTART:20130310T070000
END:DAYLIGHT
BEGIN:STANDARD
TZOFFSETFROM:-0400
TZOFFSETTO:-0500
TZNAME:EST
DTSTART:20131103T060000
END:STANDARD
BEGIN:DAYLIGHT
TZOFFSETFROM:-0500
TZOFFSETTO:-0400
TZNAME:EDT
DTSTART:20140309T070000
END:DAYLIGHT
BEGIN:STANDARD
TZOFFSETFROM:-0400
TZOFFSETTO:-0500
TZNAME:EST
DTSTART:20141102T060000
END:STANDARD
END:VTIMEZONE
BEGIN:VEVENT
DTSTART;VALUE=DATE:20130721
DTEND;VALUE=DATE:20130722
DTSTAMP:20260424T231111
CREATED:20130627T170405Z
LAST-MODIFIED:20130709T141734Z
UID:11734-1374364800-1374451199@alumnae.mtholyoke.edu
SUMMARY:Portland Book Club Meeting: Mink River by Brian Doyle
DESCRIPTION:On Sunday\, July 21\, we will be meeting at the home of a local book club member Cape Meares to discuss Brian Doyle’s Mink River\, a novel by an Oregon author set at the Oregon coast. If you have not notified Debbie Olsen that you intend to participate\, please do so right away (dolsen@linfield.edu). We will be sending most information out via email rather than evite to ensure that everyone who is interested stays in the loop. Please remember to let Debbie know if you are planning on attending! Those participating in the Cape Meares gathering will be receiving additional information from Debbie soon after July 4.
URL:https://alumnae.mtholyoke.edu/event/book-club-meeting-mink-river-by-brian-doyle/
CATEGORIES:Club
END:VEVENT
BEGIN:VEVENT
DTSTART;TZID=America/New_York:20130721T120000
DTEND;TZID=America/New_York:20130721T150000
DTSTAMP:20260424T231111
CREATED:20130327T153550Z
LAST-MODIFIED:20130327T153550Z
UID:10111-1374408000-1374418800@alumnae.mtholyoke.edu
SUMMARY:Annual Picnic (Seattle)
DESCRIPTION:ANNUAL PICNIC\, Magnuson Park\, Seattle.
URL:https://alumnae.mtholyoke.edu/event/annual-picnic-seattle/
LOCATION:Magunson Park\, Seattle 
CATEGORIES:Club
END:VEVENT
BEGIN:VEVENT
DTSTART;TZID=America/New_York:20130724T173000
DTEND;TZID=America/New_York:20130724T173000
DTSTAMP:20260424T231111
CREATED:20130627T171914Z
LAST-MODIFIED:20130627T173506Z
UID:11737-1374687000-1374687000@alumnae.mtholyoke.edu
SUMMARY:MHC Club of Chicago: Salon Series
DESCRIPTION:Hello Chicago!  At this meeting we will be discussing two articles surrounding gender identity and politics\, specifically through the vehicle of clothing.  The two articles are: “What’s So Bad About a Boy Who Wants to Wear a Dress?” and “The Balancing Act of Being Female or Why We Have So Many Clothes.”
URL:https://alumnae.mtholyoke.edu/event/mhc-club-of-chicago-salon-series/
LOCATION:Argo Tea\, 1 N. Dearborn St\, Chicago\, IL\, United States
CATEGORIES:Club
END:VEVENT
END:VCALENDAR