BEGIN:VCALENDAR
VERSION:2.0
PRODID:-//Alumnae Association - ECPv6.15.20//NONSGML v1.0//EN
CALSCALE:GREGORIAN
METHOD:PUBLISH
X-WR-CALNAME:Alumnae Association
X-ORIGINAL-URL:https://alumnae.mtholyoke.edu
X-WR-CALDESC:Events for Alumnae Association
REFRESH-INTERVAL;VALUE=DURATION:PT1H
X-Robots-Tag:noindex
X-PUBLISHED-TTL:PT1H
BEGIN:VTIMEZONE
TZID:America/New_York
BEGIN:DAYLIGHT
TZOFFSETFROM:-0500
TZOFFSETTO:-0400
TZNAME:EDT
DTSTART:20120311T070000
END:DAYLIGHT
BEGIN:STANDARD
TZOFFSETFROM:-0400
TZOFFSETTO:-0500
TZNAME:EST
DTSTART:20121104T060000
END:STANDARD
BEGIN:DAYLIGHT
TZOFFSETFROM:-0500
TZOFFSETTO:-0400
TZNAME:EDT
DTSTART:20130310T070000
END:DAYLIGHT
BEGIN:STANDARD
TZOFFSETFROM:-0400
TZOFFSETTO:-0500
TZNAME:EST
DTSTART:20131103T060000
END:STANDARD
BEGIN:DAYLIGHT
TZOFFSETFROM:-0500
TZOFFSETTO:-0400
TZNAME:EDT
DTSTART:20140309T070000
END:DAYLIGHT
BEGIN:STANDARD
TZOFFSETFROM:-0400
TZOFFSETTO:-0500
TZNAME:EST
DTSTART:20141102T060000
END:STANDARD
END:VTIMEZONE
BEGIN:VEVENT
DTSTART;TZID=America/New_York:20131017T173000
DTEND;TZID=America/New_York:20131017T193000
DTSTAMP:20260424T043614
CREATED:20131009T142559Z
LAST-MODIFIED:20131009T142559Z
UID:12792-1382031000-1382038200@alumnae.mtholyoke.edu
SUMMARY:Young Alumnae Speed Networking (Chicago)
DESCRIPTION:Hosted by the College’s Office of Advancement and the MHC Club of Chicago\, join us to meet and network with seasoned MHC alumnae from the fields of law\, social media/journalism\, non-profit management\, finance\, and medicine. Your $10 contribution to the Mount Holyoke Fund reserves your space. For questions\, contact Beckie Markarian ’07 (rjmarkar@mtholyoke.edu) or call 413-538-2247. All alumnae are encouraged to attend.
URL:https://alumnae.mtholyoke.edu/event/young-alumnae-speed-networking-chicago/
LOCATION:The Standard Club\, 320 South Plymouth Court\, Chicago\, IL\, United States
CATEGORIES:Club
END:VEVENT
BEGIN:VEVENT
DTSTART;TZID=America/New_York:20131019T110000
DTEND;TZID=America/New_York:20131019T140000
DTSTAMP:20260424T043614
CREATED:20131014T123432Z
LAST-MODIFIED:20131014T123432Z
UID:12841-1382180400-1382191200@alumnae.mtholyoke.edu
SUMMARY:Back to School Brunch (NYC)
DESCRIPTION:Join alums for continental breakfast and bottomless mimosas while listening to MHC Director of Advancement Communications\, Rachel Cartmell\, speak about the College’s new brand campaign: never fear / change.
URL:https://alumnae.mtholyoke.edu/event/back-to-school-brunch-nyc/
LOCATION:Apartment of Club President\, New York\, NY\, United States
CATEGORIES:Club
END:VEVENT
BEGIN:VEVENT
DTSTART;TZID=America/New_York:20131020T140000
DTEND;TZID=America/New_York:20131020T160000
DTSTAMP:20260424T043614
CREATED:20131007T171555Z
LAST-MODIFIED:20131007T171757Z
UID:12775-1382277600-1382284800@alumnae.mtholyoke.edu
SUMMARY:The Cloisters Museum Tour (Manhattan)
DESCRIPTION:A private two-hour guided tour of the Cloisters Museum and Gardens. RSVP information: anuja.desilva@yahoo.com. New rescheduled date is October 20.
URL:https://alumnae.mtholyoke.edu/event/the-cloisters-museum-tour-manhattan/
LOCATION:The Cloisters Museum and Gardens\, 99 Margaret Corbin Drive\, New York\, NY\, United States
CATEGORIES:Club
END:VEVENT
BEGIN:VEVENT
DTSTART;TZID=America/New_York:20131023T180000
DTEND;TZID=America/New_York:20131023T203000
DTSTAMP:20260424T043614
CREATED:20131002T175519Z
LAST-MODIFIED:20131002T180033Z
UID:12708-1382551200-1382560200@alumnae.mtholyoke.edu
SUMMARY:Seven Sisters Happy Hour (Philadelphia)
DESCRIPTION:Food and drink specials: half price appetizers\, $2.50 domestic pints\, and $3.50 well drinks. Upon arrival\, please head to the basement\, where the basement bar room will be reserved. Please bring a guest if you would like!
URL:https://alumnae.mtholyoke.edu/event/seven-sisters-happy-hour-philadelphia/
LOCATION:Irish Pub\, 2007 Walnut Street\, Philadelphia\, PA\, United States
CATEGORIES:Club
END:VEVENT
BEGIN:VEVENT
DTSTART;TZID=America/New_York:20131023T183000
DTEND;TZID=America/New_York:20131023T183000
DTSTAMP:20260424T043614
CREATED:20131004T165842Z
LAST-MODIFIED:20131004T165842Z
UID:12728-1382553000-1382553000@alumnae.mtholyoke.edu
SUMMARY:Potluck Dinner and Book Discussion (Penfield\, NY)
DESCRIPTION:Join Genesee Valley alums for an evening of dinner and discussion on October 23 at 6:30 pm. The following Mount Holyoke “common reads” will be discussed: Junot Diaz’s The Brief Wondrous Life of Oscar Wao and Gail Collins’s When Everything Changed. Read one or both\, or just come and enjoy dinner. Transportation can be arranged and guests are welcome. Please RSVP to gvmhc@yahoo.com or alreber@rochester.rr.com by Monday\, October 21. Please indicate how many guests you want to invite and what dish (main\, dessert\, side) you plan on bringing so we can try to coordinate the menu.
URL:https://alumnae.mtholyoke.edu/event/potluck-dinner-and-book-discussion-penfield-ny/
LOCATION:Judy Hannon’s Home\, Penfield\, NY\, United States
CATEGORIES:Club
ORGANIZER;CN="Lindsey Reber":MAILTO:alreber@rochester.rr.com
END:VEVENT
BEGIN:VEVENT
DTSTART;TZID=America/New_York:20131027T140000
DTEND;TZID=America/New_York:20131027T160000
DTSTAMP:20260424T043614
CREATED:20131004T133035Z
LAST-MODIFIED:20131004T133311Z
UID:12719-1382882400-1382889600@alumnae.mtholyoke.edu
SUMMARY:Book Club (Portland\, OR)
DESCRIPTION:The October book club meeting will take place Sunday\, October 27 from 2—4 pm\, where we will discuss Barbara Kingsolver’s Flight Behavior. Nic Luppino ’76 has arranged for us to meet at Maplewood Coffee at the corner of SW 52nd Avenue and SW Custer Street in Portland. (Directions to follow in the e-vite.)
URL:https://alumnae.mtholyoke.edu/event/book-club-portland-or-2/
LOCATION:Maplewood Coffee\, 5206 Custer Street\, Portland\, OR\, 97219\, United States
CATEGORIES:Club
END:VEVENT
END:VCALENDAR