BEGIN:VCALENDAR
VERSION:2.0
PRODID:-//Alumnae Association - ECPv6.15.20//NONSGML v1.0//EN
CALSCALE:GREGORIAN
METHOD:PUBLISH
X-ORIGINAL-URL:https://alumnae.mtholyoke.edu
X-WR-CALDESC:Events for Alumnae Association
REFRESH-INTERVAL;VALUE=DURATION:PT1H
X-Robots-Tag:noindex
X-PUBLISHED-TTL:PT1H
BEGIN:VTIMEZONE
TZID:America/New_York
BEGIN:DAYLIGHT
TZOFFSETFROM:-0500
TZOFFSETTO:-0400
TZNAME:EDT
DTSTART:20120311T070000
END:DAYLIGHT
BEGIN:STANDARD
TZOFFSETFROM:-0400
TZOFFSETTO:-0500
TZNAME:EST
DTSTART:20121104T060000
END:STANDARD
BEGIN:DAYLIGHT
TZOFFSETFROM:-0500
TZOFFSETTO:-0400
TZNAME:EDT
DTSTART:20130310T070000
END:DAYLIGHT
BEGIN:STANDARD
TZOFFSETFROM:-0400
TZOFFSETTO:-0500
TZNAME:EST
DTSTART:20131103T060000
END:STANDARD
BEGIN:DAYLIGHT
TZOFFSETFROM:-0500
TZOFFSETTO:-0400
TZNAME:EDT
DTSTART:20140309T070000
END:DAYLIGHT
BEGIN:STANDARD
TZOFFSETFROM:-0400
TZOFFSETTO:-0500
TZNAME:EST
DTSTART:20141102T060000
END:STANDARD
END:VTIMEZONE
BEGIN:VEVENT
DTSTART;TZID=America/New_York:20131017T173000
DTEND;TZID=America/New_York:20131017T193000
DTSTAMP:20260424T190441
CREATED:20131009T142559Z
LAST-MODIFIED:20131009T142559Z
UID:12792-1382031000-1382038200@alumnae.mtholyoke.edu
SUMMARY:Young Alumnae Speed Networking (Chicago)
DESCRIPTION:Hosted by the College’s Office of Advancement and the MHC Club of Chicago\, join us to meet and network with seasoned MHC alumnae from the fields of law\, social media/journalism\, non-profit management\, finance\, and medicine. Your $10 contribution to the Mount Holyoke Fund reserves your space. For questions\, contact Beckie Markarian ’07 (rjmarkar@mtholyoke.edu) or call 413-538-2247. All alumnae are encouraged to attend.
URL:https://alumnae.mtholyoke.edu/event/young-alumnae-speed-networking-chicago/
LOCATION:The Standard Club\, 320 South Plymouth Court\, Chicago\, IL\, United States
CATEGORIES:Club
END:VEVENT
END:VCALENDAR