BEGIN:VCALENDAR
VERSION:2.0
PRODID:-//Alumnae Association - ECPv6.15.20//NONSGML v1.0//EN
CALSCALE:GREGORIAN
METHOD:PUBLISH
X-WR-CALNAME:Alumnae Association
X-ORIGINAL-URL:https://alumnae.mtholyoke.edu
X-WR-CALDESC:Events for Alumnae Association
REFRESH-INTERVAL;VALUE=DURATION:PT1H
X-Robots-Tag:noindex
X-PUBLISHED-TTL:PT1H
BEGIN:VTIMEZONE
TZID:America/New_York
BEGIN:DAYLIGHT
TZOFFSETFROM:-0500
TZOFFSETTO:-0400
TZNAME:EDT
DTSTART:20120311T070000
END:DAYLIGHT
BEGIN:STANDARD
TZOFFSETFROM:-0400
TZOFFSETTO:-0500
TZNAME:EST
DTSTART:20121104T060000
END:STANDARD
BEGIN:DAYLIGHT
TZOFFSETFROM:-0500
TZOFFSETTO:-0400
TZNAME:EDT
DTSTART:20130310T070000
END:DAYLIGHT
BEGIN:STANDARD
TZOFFSETFROM:-0400
TZOFFSETTO:-0500
TZNAME:EST
DTSTART:20131103T060000
END:STANDARD
BEGIN:DAYLIGHT
TZOFFSETFROM:-0500
TZOFFSETTO:-0400
TZNAME:EDT
DTSTART:20140309T070000
END:DAYLIGHT
BEGIN:STANDARD
TZOFFSETFROM:-0400
TZOFFSETTO:-0500
TZNAME:EST
DTSTART:20141102T060000
END:STANDARD
END:VTIMEZONE
BEGIN:VEVENT
DTSTART;TZID=America/New_York:20131027T140000
DTEND;TZID=America/New_York:20131027T160000
DTSTAMP:20260424T203050
CREATED:20131004T133035Z
LAST-MODIFIED:20131004T133311Z
UID:12719-1382882400-1382889600@alumnae.mtholyoke.edu
SUMMARY:Book Club (Portland\, OR)
DESCRIPTION:The October book club meeting will take place Sunday\, October 27 from 2—4 pm\, where we will discuss Barbara Kingsolver’s Flight Behavior. Nic Luppino ’76 has arranged for us to meet at Maplewood Coffee at the corner of SW 52nd Avenue and SW Custer Street in Portland. (Directions to follow in the e-vite.)
URL:https://alumnae.mtholyoke.edu/event/book-club-portland-or-2/
LOCATION:Maplewood Coffee\, 5206 Custer Street\, Portland\, OR\, 97219\, United States
CATEGORIES:Club
END:VEVENT
END:VCALENDAR