BEGIN:VCALENDAR
VERSION:2.0
PRODID:-//Alumnae Association - ECPv6.15.20//NONSGML v1.0//EN
CALSCALE:GREGORIAN
METHOD:PUBLISH
X-WR-CALNAME:Alumnae Association
X-ORIGINAL-URL:https://alumnae.mtholyoke.edu
X-WR-CALDESC:Events for Alumnae Association
REFRESH-INTERVAL;VALUE=DURATION:PT1H
X-Robots-Tag:noindex
X-PUBLISHED-TTL:PT1H
BEGIN:VTIMEZONE
TZID:America/New_York
BEGIN:DAYLIGHT
TZOFFSETFROM:-0500
TZOFFSETTO:-0400
TZNAME:EDT
DTSTART:20120311T070000
END:DAYLIGHT
BEGIN:STANDARD
TZOFFSETFROM:-0400
TZOFFSETTO:-0500
TZNAME:EST
DTSTART:20121104T060000
END:STANDARD
BEGIN:DAYLIGHT
TZOFFSETFROM:-0500
TZOFFSETTO:-0400
TZNAME:EDT
DTSTART:20130310T070000
END:DAYLIGHT
BEGIN:STANDARD
TZOFFSETFROM:-0400
TZOFFSETTO:-0500
TZNAME:EST
DTSTART:20131103T060000
END:STANDARD
BEGIN:DAYLIGHT
TZOFFSETFROM:-0500
TZOFFSETTO:-0400
TZNAME:EDT
DTSTART:20140309T070000
END:DAYLIGHT
BEGIN:STANDARD
TZOFFSETFROM:-0400
TZOFFSETTO:-0500
TZNAME:EST
DTSTART:20141102T060000
END:STANDARD
END:VTIMEZONE
BEGIN:VEVENT
DTSTART;TZID=America/New_York:20131101T200000
DTEND;TZID=America/New_York:20131101T200000
DTSTAMP:20260424T103400
CREATED:20131028T132046Z
LAST-MODIFIED:20131028T132259Z
UID:13035-1383336000-1383336000@alumnae.mtholyoke.edu
SUMMARY:Luminarium Dance Company (Boston)
DESCRIPTION:Join us for the remount of Luminarium Dance Company’s newest feature production\, Secrets & Motion\, combining dance\, light\, and text to create a performance riddled with contemplative thought (and a little humor). Purchase tickets here. \nFollowing the Friday night performance\, MHC alumnae are invited to a special talkback with Artistic Directors\, Merli V. Guerra ’09 and Kimberleigh A. Holman ’09\, on the stage. Join fellow alumnae for a talk about the arts\, the show\, and to meet others in your community!
URL:https://alumnae.mtholyoke.edu/event/13035/
LOCATION:Boston University Dance Theater\, 915 Commonwealth Ave.\, Boston\, MA\, United States
CATEGORIES:Club
END:VEVENT
END:VCALENDAR