BEGIN:VCALENDAR
VERSION:2.0
PRODID:-//Alumnae Association - ECPv6.15.20//NONSGML v1.0//EN
CALSCALE:GREGORIAN
METHOD:PUBLISH
X-WR-CALNAME:Alumnae Association
X-ORIGINAL-URL:https://alumnae.mtholyoke.edu
X-WR-CALDESC:Events for Alumnae Association
REFRESH-INTERVAL;VALUE=DURATION:PT1H
X-Robots-Tag:noindex
X-PUBLISHED-TTL:PT1H
BEGIN:VTIMEZONE
TZID:America/New_York
BEGIN:DAYLIGHT
TZOFFSETFROM:-0500
TZOFFSETTO:-0400
TZNAME:EDT
DTSTART:20120311T070000
END:DAYLIGHT
BEGIN:STANDARD
TZOFFSETFROM:-0400
TZOFFSETTO:-0500
TZNAME:EST
DTSTART:20121104T060000
END:STANDARD
BEGIN:DAYLIGHT
TZOFFSETFROM:-0500
TZOFFSETTO:-0400
TZNAME:EDT
DTSTART:20130310T070000
END:DAYLIGHT
BEGIN:STANDARD
TZOFFSETFROM:-0400
TZOFFSETTO:-0500
TZNAME:EST
DTSTART:20131103T060000
END:STANDARD
BEGIN:DAYLIGHT
TZOFFSETFROM:-0500
TZOFFSETTO:-0400
TZNAME:EDT
DTSTART:20140309T070000
END:DAYLIGHT
BEGIN:STANDARD
TZOFFSETFROM:-0400
TZOFFSETTO:-0500
TZNAME:EST
DTSTART:20141102T060000
END:STANDARD
END:VTIMEZONE
BEGIN:VEVENT
DTSTART;TZID=America/New_York:20131103T110000
DTEND;TZID=America/New_York:20131103T130000
DTSTAMP:20260424T095735
CREATED:20131023T125454Z
LAST-MODIFIED:20131023T125454Z
UID:13026-1383476400-1383483600@alumnae.mtholyoke.edu
SUMMARY:Prospective Student Reception (Portland\, OR)
DESCRIPTION:Join your fellow Portland area alumnae and local prospective students (as well as Associate Dean of West Coast Admission\, Lauren Cook ’98) to share your memories\, wisdom\, and experiences with the next generation of Uncommon Women! The reception will be on Sunday\, November 3\, at the home of Heather Kientz ’91. Please RSVP via the Evite.
URL:https://alumnae.mtholyoke.edu/event/prospective-student-reception-portland-or/
CATEGORIES:Club
END:VEVENT
BEGIN:VEVENT
DTSTART;TZID=America/New_York:20131103T150000
DTEND;TZID=America/New_York:20131103T170000
DTSTAMP:20260424T095735
CREATED:20131030T144025Z
LAST-MODIFIED:20131030T144025Z
UID:13060-1383490800-1383498000@alumnae.mtholyoke.edu
SUMMARY:M&Cs: Prospective Student Intro to MHC (Chicago)
DESCRIPTION:Come meet prospective applicants to Mount Holyoke for the class of 2018! We’re asking alumnae to bring their favorite cookie to share along with memories of MHC and M&Cs. And\, you’ll get to take home an assortment of cookies! \nThe event will be hosted by Damaris Rivera Woodbury ’99 at her home near the University of Chicago. \nPlease RSVP by Friday\, November 1 to goldberg.naomi@gmail.com or on Facebook. You’ll receive the address when you RSVP. Also\, if you’re looking to carpool—either as a driver or a rider—please indicate that with your RSVP and we will try to coordinate rides.
URL:https://alumnae.mtholyoke.edu/event/mcs-prospective-student-intro-to-mhc-chicago/
LOCATION:Home of Damaris Rivera Woodbury ’99\, Chicago\, IL\, United States
CATEGORIES:Club
END:VEVENT
END:VCALENDAR