BEGIN:VCALENDAR
VERSION:2.0
PRODID:-//Alumnae Association - ECPv6.15.20//NONSGML v1.0//EN
CALSCALE:GREGORIAN
METHOD:PUBLISH
X-WR-CALNAME:Alumnae Association
X-ORIGINAL-URL:https://alumnae.mtholyoke.edu
X-WR-CALDESC:Events for Alumnae Association
REFRESH-INTERVAL;VALUE=DURATION:PT1H
X-Robots-Tag:noindex
X-PUBLISHED-TTL:PT1H
BEGIN:VTIMEZONE
TZID:America/New_York
BEGIN:DAYLIGHT
TZOFFSETFROM:-0500
TZOFFSETTO:-0400
TZNAME:EDT
DTSTART:20120311T070000
END:DAYLIGHT
BEGIN:STANDARD
TZOFFSETFROM:-0400
TZOFFSETTO:-0500
TZNAME:EST
DTSTART:20121104T060000
END:STANDARD
BEGIN:DAYLIGHT
TZOFFSETFROM:-0500
TZOFFSETTO:-0400
TZNAME:EDT
DTSTART:20130310T070000
END:DAYLIGHT
BEGIN:STANDARD
TZOFFSETFROM:-0400
TZOFFSETTO:-0500
TZNAME:EST
DTSTART:20131103T060000
END:STANDARD
BEGIN:DAYLIGHT
TZOFFSETFROM:-0500
TZOFFSETTO:-0400
TZNAME:EDT
DTSTART:20140309T070000
END:DAYLIGHT
BEGIN:STANDARD
TZOFFSETFROM:-0400
TZOFFSETTO:-0500
TZNAME:EST
DTSTART:20141102T060000
END:STANDARD
END:VTIMEZONE
BEGIN:VEVENT
DTSTART;TZID=America/New_York:20131109T140000
DTEND;TZID=America/New_York:20131109T150000
DTSTAMP:20260424T053459
CREATED:20131004T124537Z
LAST-MODIFIED:20131009T141556Z
UID:12715-1384005600-1384009200@alumnae.mtholyoke.edu
SUMMARY:Joanne Alter Women in Government Lecture (Chicago)
DESCRIPTION:The Mount Holyoke Club of Chicago and the Alumnae Association are partnering with the Chicago Humanities Festival to sponsor the Joanne Alter Women in Government Lecture featuring Senator Tammy Baldwin. Ticket sales for this event will be handled through the club\, not the CHF’s box office. RSVP information: Carrie C. Ruzicka ’99\, mhcchicagoclub@gmail.com.
URL:https://alumnae.mtholyoke.edu/event/joanne-alter-women-in-government-lecture-chicago/
LOCATION:UIC Forum – Main Hall AB\, 725 West Roosevelt Road\, Chicago\, IL\, 60608\, United States
CATEGORIES:Club
END:VEVENT
END:VCALENDAR