BEGIN:VCALENDAR
VERSION:2.0
PRODID:-//Alumnae Association - ECPv6.15.20//NONSGML v1.0//EN
CALSCALE:GREGORIAN
METHOD:PUBLISH
X-WR-CALNAME:Alumnae Association
X-ORIGINAL-URL:https://alumnae.mtholyoke.edu
X-WR-CALDESC:Events for Alumnae Association
REFRESH-INTERVAL;VALUE=DURATION:PT1H
X-Robots-Tag:noindex
X-PUBLISHED-TTL:PT1H
BEGIN:VTIMEZONE
TZID:America/New_York
BEGIN:DAYLIGHT
TZOFFSETFROM:-0500
TZOFFSETTO:-0400
TZNAME:EDT
DTSTART:20120311T070000
END:DAYLIGHT
BEGIN:STANDARD
TZOFFSETFROM:-0400
TZOFFSETTO:-0500
TZNAME:EST
DTSTART:20121104T060000
END:STANDARD
BEGIN:DAYLIGHT
TZOFFSETFROM:-0500
TZOFFSETTO:-0400
TZNAME:EDT
DTSTART:20130310T070000
END:DAYLIGHT
BEGIN:STANDARD
TZOFFSETFROM:-0400
TZOFFSETTO:-0500
TZNAME:EST
DTSTART:20131103T060000
END:STANDARD
BEGIN:DAYLIGHT
TZOFFSETFROM:-0500
TZOFFSETTO:-0400
TZNAME:EDT
DTSTART:20140309T070000
END:DAYLIGHT
BEGIN:STANDARD
TZOFFSETFROM:-0400
TZOFFSETTO:-0500
TZNAME:EST
DTSTART:20141102T060000
END:STANDARD
END:VTIMEZONE
BEGIN:VEVENT
DTSTART;TZID=America/New_York:20131117T133000
DTEND;TZID=America/New_York:20131117T133000
DTSTAMP:20260423T114440
CREATED:20131004T160034Z
LAST-MODIFIED:20131104T181222Z
UID:12721-1384695000-1384695000@alumnae.mtholyoke.edu
SUMMARY:Book Club (Portland\, OR)
DESCRIPTION:Join us on November 17 as we discuss Barbara Demick’s Nothing to Envy: Ordinary Lives in North Korea. To learn more\, read this excerpt from the book. For those who want more time to visit\, please arrive at 1:30 p.m.\, but we will not be starting the book discussion until 2:00 p.m. We will meet at the home of Susan Day ’64.
URL:https://alumnae.mtholyoke.edu/event/book-club-portland-or-3/
LOCATION:TBA
CATEGORIES:Club
END:VEVENT
END:VCALENDAR