BEGIN:VCALENDAR
VERSION:2.0
PRODID:-//Alumnae Association - ECPv6.15.20//NONSGML v1.0//EN
CALSCALE:GREGORIAN
METHOD:PUBLISH
X-WR-CALNAME:Alumnae Association
X-ORIGINAL-URL:https://alumnae.mtholyoke.edu
X-WR-CALDESC:Events for Alumnae Association
REFRESH-INTERVAL;VALUE=DURATION:PT1H
X-Robots-Tag:noindex
X-PUBLISHED-TTL:PT1H
BEGIN:VTIMEZONE
TZID:America/New_York
BEGIN:DAYLIGHT
TZOFFSETFROM:-0500
TZOFFSETTO:-0400
TZNAME:EDT
DTSTART:20120311T070000
END:DAYLIGHT
BEGIN:STANDARD
TZOFFSETFROM:-0400
TZOFFSETTO:-0500
TZNAME:EST
DTSTART:20121104T060000
END:STANDARD
BEGIN:DAYLIGHT
TZOFFSETFROM:-0500
TZOFFSETTO:-0400
TZNAME:EDT
DTSTART:20130310T070000
END:DAYLIGHT
BEGIN:STANDARD
TZOFFSETFROM:-0400
TZOFFSETTO:-0500
TZNAME:EST
DTSTART:20131103T060000
END:STANDARD
BEGIN:DAYLIGHT
TZOFFSETFROM:-0500
TZOFFSETTO:-0400
TZNAME:EDT
DTSTART:20140309T070000
END:DAYLIGHT
BEGIN:STANDARD
TZOFFSETFROM:-0400
TZOFFSETTO:-0500
TZNAME:EST
DTSTART:20141102T060000
END:STANDARD
END:VTIMEZONE
BEGIN:VEVENT
DTSTART;TZID=America/New_York:20131120T183000
DTEND;TZID=America/New_York:20131120T183000
DTSTAMP:20260424T050558
CREATED:20131111T152534Z
LAST-MODIFIED:20131111T152730Z
UID:13886-1384972200-1384972200@alumnae.mtholyoke.edu
SUMMARY:Third Wednesday Dinner (Rochester\, NY)
DESCRIPTION:Join alums for the third Wednesday dinner\, which will be held at the (relatively) new Revelry restaurant. The Revelry\, which opened in June\, features Southern cooking and just received good reviews in the Democrat and Chronicle. \nIf you can come\, please RSVP to gvmhc@yahoo.com or alreber@rochester.rr.com by Tuesday\, November 19\, 2013. Guests are welcome but please also indicate if you plan to bring one (or more). Dinners are usually scheduled at 6:30 p.m.\, and final details of the dinner will be confirmed after reservations are made.
URL:https://alumnae.mtholyoke.edu/event/third-wednesday-dinner-rochester-ny-2/
LOCATION:The Revelry Restaurant\, 1290 University Avenue\, Rochester\, NY\, United States
CATEGORIES:Club
END:VEVENT
END:VCALENDAR