BEGIN:VCALENDAR
VERSION:2.0
PRODID:-//Alumnae Association - ECPv6.15.20//NONSGML v1.0//EN
CALSCALE:GREGORIAN
METHOD:PUBLISH
X-ORIGINAL-URL:https://alumnae.mtholyoke.edu
X-WR-CALDESC:Events for Alumnae Association
REFRESH-INTERVAL;VALUE=DURATION:PT1H
X-Robots-Tag:noindex
X-PUBLISHED-TTL:PT1H
BEGIN:VTIMEZONE
TZID:America/New_York
BEGIN:DAYLIGHT
TZOFFSETFROM:-0500
TZOFFSETTO:-0400
TZNAME:EDT
DTSTART:20130310T070000
END:DAYLIGHT
BEGIN:STANDARD
TZOFFSETFROM:-0400
TZOFFSETTO:-0500
TZNAME:EST
DTSTART:20131103T060000
END:STANDARD
BEGIN:DAYLIGHT
TZOFFSETFROM:-0500
TZOFFSETTO:-0400
TZNAME:EDT
DTSTART:20140309T070000
END:DAYLIGHT
BEGIN:STANDARD
TZOFFSETFROM:-0400
TZOFFSETTO:-0500
TZNAME:EST
DTSTART:20141102T060000
END:STANDARD
BEGIN:DAYLIGHT
TZOFFSETFROM:-0500
TZOFFSETTO:-0400
TZNAME:EDT
DTSTART:20150308T070000
END:DAYLIGHT
BEGIN:STANDARD
TZOFFSETFROM:-0400
TZOFFSETTO:-0500
TZNAME:EST
DTSTART:20151101T060000
END:STANDARD
END:VTIMEZONE
BEGIN:VEVENT
DTSTART;VALUE=DATE:20140103
DTEND;VALUE=DATE:20140112
DTSTAMP:20260422T174850
CREATED:20130627T182256Z
LAST-MODIFIED:20130627T182256Z
UID:11744-1388707200-1389484799@alumnae.mtholyoke.edu
SUMMARY:Trip to Cuba with Madeleine Plonsker ’60
DESCRIPTION:Be more than a tourist! \nIt has been said of Cuba that you experience it with all your senses. With a mix of black\, white and Indian races\, Cuban culture’s vibrancy and vitality is alive. Cuba is old\, some of it is destroyed\, and it feels as though time has stopped. But it is full of life from the aroma of cooking food\, to the rhythm in the way people move\, to the sound of music in the air. Cuba is changing rapidly.  Now is the time to visit! \nYour program includes:\nSeven nights\, eight days in Cuba\, one night in Miami\nRound Trip Air from Miami to Havana\nAccommodations at Crowne Plaza Hotel\, Miami and Parque Central Hotel\, a five-star hotel located in the heart of Old Havana  \nHighlights of the trip include visits to artists and galleries\, three half day tours of Havana by noted Cuban architect Julio Cesar Perez\, a tour of Bellas Artes Museum by the museum’s curator and more. There will also be a professional English speaking guide who is well versed in the history and culture of Cuba. \nContact Madeleine Plonsker for more information:\nTelephone: (847-610-5772)\nEmail: madeleine232@comcast.net \nREGISTRATION DEADLINE IS AUGUST 30\, 2013
URL:https://alumnae.mtholyoke.edu/event/trip-to-cuba-with-madeleine-plonsker-60/
CATEGORIES:Club
END:VEVENT
BEGIN:VEVENT
DTSTART;TZID=America/New_York:20140110T170000
DTEND;TZID=America/New_York:20140110T170000
DTSTAMP:20260422T174850
CREATED:20140106T160735Z
LAST-MODIFIED:20140108T142043Z
UID:15616-1389373200-1389373200@alumnae.mtholyoke.edu
SUMMARY:Ivy Happy Hour (Cincinnati)
DESCRIPTION:The next Ivy League and Seven Sisters Young Alumni Happy Hour (Ivy Happy Hour) will be held on Friday\, January 10. As usual\, there is no admission cost for young alumni\, and we will provide an array of appetizers and finger foods. There will also be a cash bar with a multitude of happy hour drink specials. If you have any questions\, please email Sid D’Souza at ivyhappyhour@cincyivy.org. \nFor more information on the event location\, subscribe to the Cincy Ivy mailing list.
URL:https://alumnae.mtholyoke.edu/event/ivy-happy-hour-cincinnati/
LOCATION:Downtown Cincinnati\, near Fountain Square
CATEGORIES:Club
END:VEVENT
END:VCALENDAR