BEGIN:VCALENDAR
VERSION:2.0
PRODID:-//Alumnae Association - ECPv6.15.20//NONSGML v1.0//EN
CALSCALE:GREGORIAN
METHOD:PUBLISH
X-ORIGINAL-URL:https://alumnae.mtholyoke.edu
X-WR-CALDESC:Events for Alumnae Association
REFRESH-INTERVAL;VALUE=DURATION:PT1H
X-Robots-Tag:noindex
X-PUBLISHED-TTL:PT1H
BEGIN:VTIMEZONE
TZID:America/New_York
BEGIN:DAYLIGHT
TZOFFSETFROM:-0500
TZOFFSETTO:-0400
TZNAME:EDT
DTSTART:20130310T070000
END:DAYLIGHT
BEGIN:STANDARD
TZOFFSETFROM:-0400
TZOFFSETTO:-0500
TZNAME:EST
DTSTART:20131103T060000
END:STANDARD
BEGIN:DAYLIGHT
TZOFFSETFROM:-0500
TZOFFSETTO:-0400
TZNAME:EDT
DTSTART:20140309T070000
END:DAYLIGHT
BEGIN:STANDARD
TZOFFSETFROM:-0400
TZOFFSETTO:-0500
TZNAME:EST
DTSTART:20141102T060000
END:STANDARD
BEGIN:DAYLIGHT
TZOFFSETFROM:-0500
TZOFFSETTO:-0400
TZNAME:EDT
DTSTART:20150308T070000
END:DAYLIGHT
BEGIN:STANDARD
TZOFFSETFROM:-0400
TZOFFSETTO:-0500
TZNAME:EST
DTSTART:20151101T060000
END:STANDARD
END:VTIMEZONE
BEGIN:VEVENT
DTSTART;TZID=America/New_York:20140112T133000
DTEND;TZID=America/New_York:20140112T133000
DTSTAMP:20260421T184747
CREATED:20131004T161647Z
LAST-MODIFIED:20131104T181304Z
UID:12723-1389533400-1389533400@alumnae.mtholyoke.edu
SUMMARY:Book Club (Portland\, OR)
DESCRIPTION:Join us on January 12 as we discuss Edith Wharton’s The Age of Innocence. For those who want more time to visit\, please arrive at 1:30 p.m.\, but we will not be starting the book discussion until 2:00 p.m. We will meet at the home of Paula Creamer.
URL:https://alumnae.mtholyoke.edu/event/book-club-portland-or-4/
LOCATION:TBA
CATEGORIES:Club
END:VEVENT
BEGIN:VEVENT
DTSTART;VALUE=DATE:20140113
DTEND;VALUE=DATE:20140114
DTSTAMP:20260421T184747
CREATED:20131122T180309Z
LAST-MODIFIED:20131122T180309Z
UID:14384-1389571200-1389657599@alumnae.mtholyoke.edu
SUMMARY:College for a Day and Potluck Supper (Denver)
DESCRIPTION:Two events\, one day! Come to one or come to both. On Jauary 13\, 2013\, our own geology professor\, Al Werner\, will be one of three professors speaking at the College For A Day event held from 9:15 a.m. to 1:30 p.m. at Temple Emanuel in Denver. Winner of the 2013 Faculty Award for Teaching and known for his passionate lectures\, Al Werner’s topic is “Climate Change: Myth or Reality?” Later that evening\, chat with professor Al Werner and mingle with fellow alumnae at a potluck supper. \nVolunteers are needed to help with the potluck supper. Please email Janet Hayes at jmhacm@gmail.com if you would like to help.
URL:https://alumnae.mtholyoke.edu/event/college-for-a-day-and-potluck-supper-denver/
LOCATION:Unnamed Venue\, Denver\, CO\, United States
CATEGORIES:Club
END:VEVENT
END:VCALENDAR