BEGIN:VCALENDAR
VERSION:2.0
PRODID:-//Alumnae Association - ECPv6.15.20//NONSGML v1.0//EN
CALSCALE:GREGORIAN
METHOD:PUBLISH
X-ORIGINAL-URL:https://alumnae.mtholyoke.edu
X-WR-CALDESC:Events for Alumnae Association
REFRESH-INTERVAL;VALUE=DURATION:PT1H
X-Robots-Tag:noindex
X-PUBLISHED-TTL:PT1H
BEGIN:VTIMEZONE
TZID:America/New_York
BEGIN:DAYLIGHT
TZOFFSETFROM:-0500
TZOFFSETTO:-0400
TZNAME:EDT
DTSTART:20130310T070000
END:DAYLIGHT
BEGIN:STANDARD
TZOFFSETFROM:-0400
TZOFFSETTO:-0500
TZNAME:EST
DTSTART:20131103T060000
END:STANDARD
BEGIN:DAYLIGHT
TZOFFSETFROM:-0500
TZOFFSETTO:-0400
TZNAME:EDT
DTSTART:20140309T070000
END:DAYLIGHT
BEGIN:STANDARD
TZOFFSETFROM:-0400
TZOFFSETTO:-0500
TZNAME:EST
DTSTART:20141102T060000
END:STANDARD
BEGIN:DAYLIGHT
TZOFFSETFROM:-0500
TZOFFSETTO:-0400
TZNAME:EDT
DTSTART:20150308T070000
END:DAYLIGHT
BEGIN:STANDARD
TZOFFSETFROM:-0400
TZOFFSETTO:-0500
TZNAME:EST
DTSTART:20151101T060000
END:STANDARD
END:VTIMEZONE
BEGIN:VEVENT
DTSTART;VALUE=DATE:20140118
DTEND;VALUE=DATE:20140119
DTSTAMP:20260422T205411
CREATED:20140117T150859Z
LAST-MODIFIED:20140117T151751Z
UID:15980-1390003200-1390089599@alumnae.mtholyoke.edu
SUMMARY:Whatcom Museum Tour & Lunch (Bellingham)
DESCRIPTION:A tour of the Whatcom Museum and lunch\, hosted by Nola Lynch ’72 for the MHC club of the Puget Sound.
URL:https://alumnae.mtholyoke.edu/event/whatcom-museum-tour-lunch-bellingham/
LOCATION:Whatcom Museum\, 121 Prospect Street\, Bellingham\, WA\, 98225\, United States
CATEGORIES:Club
END:VEVENT
BEGIN:VEVENT
DTSTART;TZID=America/New_York:20140118T113000
DTEND;TZID=America/New_York:20140118T113000
DTSTAMP:20260422T205411
CREATED:20131018T164130Z
LAST-MODIFIED:20131018T164240Z
UID:12986-1390044600-1390044600@alumnae.mtholyoke.edu
SUMMARY:Westcoast Black Theater Troupe (Sarasota\, FL)
DESCRIPTION:Following a discussion with Executive Director of the Arts & Cultural Alliance of Sarasota County\, Jim Shirley\, the Westcoast Black Theater Troupe will entertain us with a performance. This event is sponsored in collaboration with the Ivy League Club of Sarasota.
URL:https://alumnae.mtholyoke.edu/event/westcoast-black-theater-troupe-sarasota-fl/
LOCATION:Palm Aire Country Club\, 2600 N Palm Aire Dr\, Pompano Beach\, FL\, 33069\, United States
CATEGORIES:Club
END:VEVENT
END:VCALENDAR