BEGIN:VCALENDAR
VERSION:2.0
PRODID:-//Alumnae Association - ECPv6.15.20//NONSGML v1.0//EN
CALSCALE:GREGORIAN
METHOD:PUBLISH
X-WR-CALNAME:Alumnae Association
X-ORIGINAL-URL:https://alumnae.mtholyoke.edu
X-WR-CALDESC:Events for Alumnae Association
REFRESH-INTERVAL;VALUE=DURATION:PT1H
X-Robots-Tag:noindex
X-PUBLISHED-TTL:PT1H
BEGIN:VTIMEZONE
TZID:America/New_York
BEGIN:DAYLIGHT
TZOFFSETFROM:-0500
TZOFFSETTO:-0400
TZNAME:EDT
DTSTART:20130310T070000
END:DAYLIGHT
BEGIN:STANDARD
TZOFFSETFROM:-0400
TZOFFSETTO:-0500
TZNAME:EST
DTSTART:20131103T060000
END:STANDARD
BEGIN:DAYLIGHT
TZOFFSETFROM:-0500
TZOFFSETTO:-0400
TZNAME:EDT
DTSTART:20140309T070000
END:DAYLIGHT
BEGIN:STANDARD
TZOFFSETFROM:-0400
TZOFFSETTO:-0500
TZNAME:EST
DTSTART:20141102T060000
END:STANDARD
BEGIN:DAYLIGHT
TZOFFSETFROM:-0500
TZOFFSETTO:-0400
TZNAME:EDT
DTSTART:20150308T070000
END:DAYLIGHT
BEGIN:STANDARD
TZOFFSETFROM:-0400
TZOFFSETTO:-0500
TZNAME:EST
DTSTART:20151101T060000
END:STANDARD
END:VTIMEZONE
BEGIN:VEVENT
DTSTART;TZID=America/New_York:20140121T183000
DTEND;TZID=America/New_York:20140121T203000
DTSTAMP:20260422T233548
CREATED:20140117T194336Z
LAST-MODIFIED:20140117T194336Z
UID:15998-1390329000-1390336200@alumnae.mtholyoke.edu
SUMMARY:Buzz Pop Energize: Networking with Sister Alumnae
DESCRIPTION:First annual pop event “Buzz Pop Energize: Networking with Sister Alumnae” exclusively for Seven Sister entrepreneurs and business owners! We are limiting this event to forty-five people\, so be sure to register ASAP! Guests will be broken up into three groups of fifteen and guided throughout this unusual brownstone to enjoy networking\, business tips\, and confidence building exercises. Complimentary wine\, snacks\, and other light eats will be served.
URL:https://alumnae.mtholyoke.edu/event/buzz-pop-energize-networking-with-sister-alumnae/
LOCATION:The Science House\, 122 E. 38th St\, New York\, NY\, 10016\, United States
CATEGORIES:Club
END:VEVENT
END:VCALENDAR