BEGIN:VCALENDAR
VERSION:2.0
PRODID:-//Alumnae Association - ECPv6.15.20//NONSGML v1.0//EN
CALSCALE:GREGORIAN
METHOD:PUBLISH
X-ORIGINAL-URL:https://alumnae.mtholyoke.edu
X-WR-CALDESC:Events for Alumnae Association
REFRESH-INTERVAL;VALUE=DURATION:PT1H
X-Robots-Tag:noindex
X-PUBLISHED-TTL:PT1H
BEGIN:VTIMEZONE
TZID:America/New_York
BEGIN:DAYLIGHT
TZOFFSETFROM:-0500
TZOFFSETTO:-0400
TZNAME:EDT
DTSTART:20130310T070000
END:DAYLIGHT
BEGIN:STANDARD
TZOFFSETFROM:-0400
TZOFFSETTO:-0500
TZNAME:EST
DTSTART:20131103T060000
END:STANDARD
BEGIN:DAYLIGHT
TZOFFSETFROM:-0500
TZOFFSETTO:-0400
TZNAME:EDT
DTSTART:20140309T070000
END:DAYLIGHT
BEGIN:STANDARD
TZOFFSETFROM:-0400
TZOFFSETTO:-0500
TZNAME:EST
DTSTART:20141102T060000
END:STANDARD
BEGIN:DAYLIGHT
TZOFFSETFROM:-0500
TZOFFSETTO:-0400
TZNAME:EDT
DTSTART:20150308T070000
END:DAYLIGHT
BEGIN:STANDARD
TZOFFSETFROM:-0400
TZOFFSETTO:-0500
TZNAME:EST
DTSTART:20151101T060000
END:STANDARD
END:VTIMEZONE
BEGIN:VEVENT
DTSTART;TZID=America/New_York:20140126T110000
DTEND;TZID=America/New_York:20140126T110000
DTSTAMP:20260422T230645
CREATED:20140108T144802Z
LAST-MODIFIED:20140108T144802Z
UID:15776-1390734000-1390734000@alumnae.mtholyoke.edu
SUMMARY:Annual Meeting (Chicago)
DESCRIPTION:If you’ve ever thought of volunteering or getting more involved with the MHC club of Chicago\, you don’t want to miss this event. The club will be discussing events for the year and electing board members. Share your ideas with the board by emailing mhcchicagoclub@gmail.com or commenting on the Facebook page here: https://www.facebook.com/events/492220157565469/.
URL:https://alumnae.mtholyoke.edu/event/annual-meeting-chicago-2/
LOCATION:Artpolis Bakery & Cafe\, 306 S. Halsted Street\, Chicago\, IL\, United States
CATEGORIES:Club
END:VEVENT
END:VCALENDAR