BEGIN:VCALENDAR
VERSION:2.0
PRODID:-//Alumnae Association - ECPv6.15.20//NONSGML v1.0//EN
CALSCALE:GREGORIAN
METHOD:PUBLISH
X-ORIGINAL-URL:https://alumnae.mtholyoke.edu
X-WR-CALDESC:Events for Alumnae Association
REFRESH-INTERVAL;VALUE=DURATION:PT1H
X-Robots-Tag:noindex
X-PUBLISHED-TTL:PT1H
BEGIN:VTIMEZONE
TZID:America/New_York
BEGIN:DAYLIGHT
TZOFFSETFROM:-0500
TZOFFSETTO:-0400
TZNAME:EDT
DTSTART:20130310T070000
END:DAYLIGHT
BEGIN:STANDARD
TZOFFSETFROM:-0400
TZOFFSETTO:-0500
TZNAME:EST
DTSTART:20131103T060000
END:STANDARD
BEGIN:DAYLIGHT
TZOFFSETFROM:-0500
TZOFFSETTO:-0400
TZNAME:EDT
DTSTART:20140309T070000
END:DAYLIGHT
BEGIN:STANDARD
TZOFFSETFROM:-0400
TZOFFSETTO:-0500
TZNAME:EST
DTSTART:20141102T060000
END:STANDARD
BEGIN:DAYLIGHT
TZOFFSETFROM:-0500
TZOFFSETTO:-0400
TZNAME:EDT
DTSTART:20150308T070000
END:DAYLIGHT
BEGIN:STANDARD
TZOFFSETFROM:-0400
TZOFFSETTO:-0500
TZNAME:EST
DTSTART:20151101T060000
END:STANDARD
END:VTIMEZONE
BEGIN:VEVENT
DTSTART;TZID=America/New_York:20140128T190000
DTEND;TZID=America/New_York:20140128T190000
DTSTAMP:20260420T184220
CREATED:20131213T150731Z
LAST-MODIFIED:20131213T150859Z
UID:14816-1390935600-1390935600@alumnae.mtholyoke.edu
SUMMARY:Book Club (Phoenix)
DESCRIPTION:The next meeting of the Mount Holyoke Club of Central & Northern Arizona book group will be on Tuesday\, January 28\, 2014\, in Phoenix. The book selected for the meeting is Year of Wonders by Geraldine Brooks. Please join the club for good discussion and dessert starting at 7 p.m. Members of the book group who have not finished reading the book are still encouraged to attend\, as this is intended to be an enjoyable social gathering for all alums in the area. If you would like additional information\, please contact Liz Roe\, the club’s book group coordinator\, at 480-363-8203 or by email at elizabethroe1@gmail.com. \nAlso\, please let Liz Roe know if you plan to attend or if you have any questions.
URL:https://alumnae.mtholyoke.edu/event/book-club-phoenix/
LOCATION:Unnamed Venue\, Phoenix\, AZ\, United States
CATEGORIES:Club
END:VEVENT
BEGIN:VEVENT
DTSTART;TZID=America/New_York:20140128T193000
DTEND;TZID=America/New_York:20140128T193000
DTSTAMP:20260420T184220
CREATED:20140121T141057Z
LAST-MODIFIED:20140121T141144Z
UID:16006-1390937400-1390937400@alumnae.mtholyoke.edu
SUMMARY:Young Alums Tasty Burger Event (Boston)
DESCRIPTION:Now that the holidays have winded down and your schedule has opened up\, it’s time to catch up with your fellow alums! Join the MHC club of Boston for a young alum event at Tasty Burger (downstairs) in Harvard Square. Bring your friends and enjoy a beer and fries downstairs at 7:30 p.m. on January 28.
URL:https://alumnae.mtholyoke.edu/event/young-alums-tasty-burger-event-boston/
LOCATION:Tasty Burger\, 40 John F. Kennedy Street\, Boston\, MA\, United States
CATEGORIES:Club
END:VEVENT
END:VCALENDAR