BEGIN:VCALENDAR
VERSION:2.0
PRODID:-//Alumnae Association - ECPv6.15.20//NONSGML v1.0//EN
CALSCALE:GREGORIAN
METHOD:PUBLISH
X-WR-CALNAME:Alumnae Association
X-ORIGINAL-URL:https://alumnae.mtholyoke.edu
X-WR-CALDESC:Events for Alumnae Association
REFRESH-INTERVAL;VALUE=DURATION:PT1H
X-Robots-Tag:noindex
X-PUBLISHED-TTL:PT1H
BEGIN:VTIMEZONE
TZID:America/New_York
BEGIN:DAYLIGHT
TZOFFSETFROM:-0500
TZOFFSETTO:-0400
TZNAME:EDT
DTSTART:20130310T070000
END:DAYLIGHT
BEGIN:STANDARD
TZOFFSETFROM:-0400
TZOFFSETTO:-0500
TZNAME:EST
DTSTART:20131103T060000
END:STANDARD
BEGIN:DAYLIGHT
TZOFFSETFROM:-0500
TZOFFSETTO:-0400
TZNAME:EDT
DTSTART:20140309T070000
END:DAYLIGHT
BEGIN:STANDARD
TZOFFSETFROM:-0400
TZOFFSETTO:-0500
TZNAME:EST
DTSTART:20141102T060000
END:STANDARD
BEGIN:DAYLIGHT
TZOFFSETFROM:-0500
TZOFFSETTO:-0400
TZNAME:EDT
DTSTART:20150308T070000
END:DAYLIGHT
BEGIN:STANDARD
TZOFFSETFROM:-0400
TZOFFSETTO:-0500
TZNAME:EST
DTSTART:20151101T060000
END:STANDARD
END:VTIMEZONE
BEGIN:VEVENT
DTSTART;TZID=America/New_York:20140201T113000
DTEND;TZID=America/New_York:20140201T113000
DTSTAMP:20260421T150336
CREATED:20131018T165120Z
LAST-MODIFIED:20131018T165235Z
UID:12988-1391254200-1391254200@alumnae.mtholyoke.edu
SUMMARY:Discussion with William Cohan (Sarasota\, FL)
DESCRIPTION:Join us to gain insights from former investment banker\, William Cohan\, whose talk is entitled “Five Years After Lehman Brothers’ Collapse: Is the U.S. Better Off?” We will be joining members of the Smith club for this event.
URL:https://alumnae.mtholyoke.edu/event/discussion-with-william-cohan-sarasota-fl/
LOCATION:Marina Jack\, 2 Marina Plaza\, Sarasota\, FL\, 34236\, United States
CATEGORIES:Club
END:VEVENT
END:VCALENDAR