BEGIN:VCALENDAR
VERSION:2.0
PRODID:-//Alumnae Association - ECPv6.15.20//NONSGML v1.0//EN
CALSCALE:GREGORIAN
METHOD:PUBLISH
X-WR-CALNAME:Alumnae Association
X-ORIGINAL-URL:https://alumnae.mtholyoke.edu
X-WR-CALDESC:Events for Alumnae Association
REFRESH-INTERVAL;VALUE=DURATION:PT1H
X-Robots-Tag:noindex
X-PUBLISHED-TTL:PT1H
BEGIN:VTIMEZONE
TZID:America/New_York
BEGIN:DAYLIGHT
TZOFFSETFROM:-0500
TZOFFSETTO:-0400
TZNAME:EDT
DTSTART:20130310T070000
END:DAYLIGHT
BEGIN:STANDARD
TZOFFSETFROM:-0400
TZOFFSETTO:-0500
TZNAME:EST
DTSTART:20131103T060000
END:STANDARD
BEGIN:DAYLIGHT
TZOFFSETFROM:-0500
TZOFFSETTO:-0400
TZNAME:EDT
DTSTART:20140309T070000
END:DAYLIGHT
BEGIN:STANDARD
TZOFFSETFROM:-0400
TZOFFSETTO:-0500
TZNAME:EST
DTSTART:20141102T060000
END:STANDARD
BEGIN:DAYLIGHT
TZOFFSETFROM:-0500
TZOFFSETTO:-0400
TZNAME:EDT
DTSTART:20150308T070000
END:DAYLIGHT
BEGIN:STANDARD
TZOFFSETFROM:-0400
TZOFFSETTO:-0500
TZNAME:EST
DTSTART:20151101T060000
END:STANDARD
END:VTIMEZONE
BEGIN:VEVENT
DTSTART;TZID=America/New_York:20140214T170000
DTEND;TZID=America/New_York:20140214T190000
DTSTAMP:20260421T150326
CREATED:20140131T153258Z
LAST-MODIFIED:20140131T153258Z
UID:16140-1392397200-1392404400@alumnae.mtholyoke.edu
SUMMARY:Cincy Ivy Young Alumni Happy Hour (Cincinnati)
DESCRIPTION:Please save the date! The Cincy Ivy Young Alumni Club is holding its next Ivy League and Seven Sisters Young Alumni Happy Hour on Friday\, February 14\, from 5:00 to 7:00 p.m. in downtown Cincinnati (location to be announced shortly). This is an excellent way to meet other Ivy young professionals in Cincinnati from a variety of companies\, organizations\, neighborhoods\, etc. Enjoy an evening of food and drink with fellow young alumni. There is no admission cost for the happy hour\, and a variety of hors d’oeuvres will be provided by the Cincy Ivy Young Alumni Club. There will be a cash bar with great drink specials! \nAs invitations and RSVPs are being handled online\, if you are interested in joining the distribution list and receiving an invitation to this event and future young alumni events\, please sign up here. Subscribers will soon receive an Evite with full details about the happy hour. Please respond as soon as possible\, as this greatly helps in planning for space and food. If you know any other Cincinnati-area Ivy League and Seven Sisters young alumni who would be interested in attending\, please encourage them to sign up online as well. There are no dues and all local Ivy League and Seven Sisters young alumni are automatically members. \nIf you have any questions\, please contact Cincy Ivy Young Alumni Club President\, Sid D’Souza\, at sid@cincyivy.org.
URL:https://alumnae.mtholyoke.edu/event/cincy-ivy-young-alumni-happy-hour-cincinnati/
LOCATION:Downtown Cincinnati\, near Fountain Square
CATEGORIES:Club
END:VEVENT
END:VCALENDAR