BEGIN:VCALENDAR
VERSION:2.0
PRODID:-//Alumnae Association - ECPv6.15.20//NONSGML v1.0//EN
CALSCALE:GREGORIAN
METHOD:PUBLISH
X-WR-CALNAME:Alumnae Association
X-ORIGINAL-URL:https://alumnae.mtholyoke.edu
X-WR-CALDESC:Events for Alumnae Association
REFRESH-INTERVAL;VALUE=DURATION:PT1H
X-Robots-Tag:noindex
X-PUBLISHED-TTL:PT1H
BEGIN:VTIMEZONE
TZID:America/New_York
BEGIN:DAYLIGHT
TZOFFSETFROM:-0500
TZOFFSETTO:-0400
TZNAME:EDT
DTSTART:20130310T070000
END:DAYLIGHT
BEGIN:STANDARD
TZOFFSETFROM:-0400
TZOFFSETTO:-0500
TZNAME:EST
DTSTART:20131103T060000
END:STANDARD
BEGIN:DAYLIGHT
TZOFFSETFROM:-0500
TZOFFSETTO:-0400
TZNAME:EDT
DTSTART:20140309T070000
END:DAYLIGHT
BEGIN:STANDARD
TZOFFSETFROM:-0400
TZOFFSETTO:-0500
TZNAME:EST
DTSTART:20141102T060000
END:STANDARD
BEGIN:DAYLIGHT
TZOFFSETFROM:-0500
TZOFFSETTO:-0400
TZNAME:EDT
DTSTART:20150308T070000
END:DAYLIGHT
BEGIN:STANDARD
TZOFFSETFROM:-0400
TZOFFSETTO:-0500
TZNAME:EST
DTSTART:20151101T060000
END:STANDARD
END:VTIMEZONE
BEGIN:VEVENT
DTSTART;TZID=America/New_York:20140301T130000
DTEND;TZID=America/New_York:20140301T130000
DTSTAMP:20260420T113110
CREATED:20140131T172026Z
LAST-MODIFIED:20140131T172147Z
UID:16144-1393678800-1393678800@alumnae.mtholyoke.edu
SUMMARY:A Conversation with Congresswoman Nita Lowey (Scarsdale)
DESCRIPTION:The MHC club of Westchester invites you to attend “A Conversation with Congresswoman Nita Lowey and Mayor Mary Marvin on Women in Public Service.” Hear both speak on the importance of a woman’s voice in public service and what Congress and local government can do to help women and their families thrive in the economy. The event is being sponsored by the Mount Holyoke Club of Westchester. To RSVP\, please email Jacqueline Prue at jprue@clarkdodgeco.com \nRefreshments will be served.
URL:https://alumnae.mtholyoke.edu/event/a-conversation-with-congresswoman-nita-lowey-scarsdale/
LOCATION:Scarsdale Public Library\, 54 Olmsted Road\, Scarsdale\, NY\, 10583\, United States
CATEGORIES:Club
END:VEVENT
END:VCALENDAR