BEGIN:VCALENDAR
VERSION:2.0
PRODID:-//Alumnae Association - ECPv6.15.20//NONSGML v1.0//EN
CALSCALE:GREGORIAN
METHOD:PUBLISH
X-WR-CALNAME:Alumnae Association
X-ORIGINAL-URL:https://alumnae.mtholyoke.edu
X-WR-CALDESC:Events for Alumnae Association
REFRESH-INTERVAL;VALUE=DURATION:PT1H
X-Robots-Tag:noindex
X-PUBLISHED-TTL:PT1H
BEGIN:VTIMEZONE
TZID:America/New_York
BEGIN:DAYLIGHT
TZOFFSETFROM:-0500
TZOFFSETTO:-0400
TZNAME:EDT
DTSTART:20160313T070000
END:DAYLIGHT
BEGIN:STANDARD
TZOFFSETFROM:-0400
TZOFFSETTO:-0500
TZNAME:EST
DTSTART:20161106T060000
END:STANDARD
BEGIN:DAYLIGHT
TZOFFSETFROM:-0500
TZOFFSETTO:-0400
TZNAME:EDT
DTSTART:20170312T070000
END:DAYLIGHT
BEGIN:STANDARD
TZOFFSETFROM:-0400
TZOFFSETTO:-0500
TZNAME:EST
DTSTART:20171105T060000
END:STANDARD
BEGIN:DAYLIGHT
TZOFFSETFROM:-0500
TZOFFSETTO:-0400
TZNAME:EDT
DTSTART:20180311T070000
END:DAYLIGHT
BEGIN:STANDARD
TZOFFSETFROM:-0400
TZOFFSETTO:-0500
TZNAME:EST
DTSTART:20181104T060000
END:STANDARD
END:VTIMEZONE
BEGIN:VEVENT
DTSTART;TZID=America/New_York:20170105T173000
DTEND;TZID=America/New_York:20170105T190000
DTSTAMP:20260421T011106
CREATED:20161031T173154Z
LAST-MODIFIED:20161031T173218Z
UID:64895-1483637400-1483642800@alumnae.mtholyoke.edu
SUMMARY:Club of Houston Campus Update Cocktails (Houston\, TX)
DESCRIPTION:Margarita Arentsen ’92 hosts a happy hour panel of current trustees and Alumnae Association committee members to update us on campus initiatives and programs\, and tips on how to get more involved with Mount Holyoke!
URL:https://alumnae.mtholyoke.edu/event/club-of-houston-campus-update-cocktails-houston-tx/
LOCATION:Private Residence\, Houston\, TX\, United States
CATEGORIES:Club
END:VEVENT
END:VCALENDAR