BEGIN:VCALENDAR
VERSION:2.0
PRODID:-//Alumnae Association - ECPv6.15.20//NONSGML v1.0//EN
CALSCALE:GREGORIAN
METHOD:PUBLISH
X-ORIGINAL-URL:https://alumnae.mtholyoke.edu
X-WR-CALDESC:Events for Alumnae Association
REFRESH-INTERVAL;VALUE=DURATION:PT1H
X-Robots-Tag:noindex
X-PUBLISHED-TTL:PT1H
BEGIN:VTIMEZONE
TZID:America/New_York
BEGIN:DAYLIGHT
TZOFFSETFROM:-0500
TZOFFSETTO:-0400
TZNAME:EDT
DTSTART:20160313T070000
END:DAYLIGHT
BEGIN:STANDARD
TZOFFSETFROM:-0400
TZOFFSETTO:-0500
TZNAME:EST
DTSTART:20161106T060000
END:STANDARD
BEGIN:DAYLIGHT
TZOFFSETFROM:-0500
TZOFFSETTO:-0400
TZNAME:EDT
DTSTART:20170312T070000
END:DAYLIGHT
BEGIN:STANDARD
TZOFFSETFROM:-0400
TZOFFSETTO:-0500
TZNAME:EST
DTSTART:20171105T060000
END:STANDARD
BEGIN:DAYLIGHT
TZOFFSETFROM:-0500
TZOFFSETTO:-0400
TZNAME:EDT
DTSTART:20180311T070000
END:DAYLIGHT
BEGIN:STANDARD
TZOFFSETFROM:-0400
TZOFFSETTO:-0500
TZNAME:EST
DTSTART:20181104T060000
END:STANDARD
END:VTIMEZONE
BEGIN:VEVENT
DTSTART;TZID=America/New_York:20170121T130000
DTEND;TZID=America/New_York:20170121T160000
DTSTAMP:20260420T213559
CREATED:20161220T202918Z
LAST-MODIFIED:20161220T202918Z
UID:70627-1485003600-1485014400@alumnae.mtholyoke.edu
SUMMARY:Club of Washington\, DC\, Knitting for Pros and Beginners (Fairfax\, VA)
DESCRIPTION:Join Esther Nasjleti ’92 to learn the basic skills you need to knit a scarf; refresh your knitting skills; or get advice on a pattern. Bring knitting supplies if you have them. Please note your knitting skill level when registering. \nRegister here
URL:https://alumnae.mtholyoke.edu/event/club-of-washington-dc-knitting-for-pros-and-beginners-fairfax-va/
LOCATION:Private Residence\, Fairfax\, VA\, 22030\, United States
CATEGORIES:Club
END:VEVENT
BEGIN:VEVENT
DTSTART;TZID=America/New_York:20170121T160000
DTEND;TZID=America/New_York:20170121T160000
DTSTAMP:20260420T213559
CREATED:20161222T200834Z
LAST-MODIFIED:20161222T200834Z
UID:70940-1485014400-1485014400@alumnae.mtholyoke.edu
SUMMARY:Club of Chicago Mary Lyon Concert (Chicago\, IL)
DESCRIPTION:Join the Mount Holyoke Club of Chicago for the second Mary Lyon Concert: Of Courage and Freedom. Director of Orchestral Studies and Assistant Professor of Music Ng Tian Hui has pioneered a new concert series and taken the Mount Holyoke Symphony Orchestra on tour beyond the Northeast. \nLast year’s inaugural Mary Lyon Concert took place in DC. This January\, they’re heading to Chicago. The club invites you to for an afternoon of music that celebrates and discusses diversity\, unity\, and freedom. The program features music exclusively by women composers\, including two world premieres—one by Karen LeFrak ’69. \nPurchase tickets here. Individual ticket prices range from $5 to $50.
URL:https://alumnae.mtholyoke.edu/event/club-of-chicago-mary-lyon-concert-chicago-il/
LOCATION:Unitarian Church of Evanston\, 1330 Ridge Avenue\, Evanston\, IL\, United States
CATEGORIES:Club
END:VEVENT
END:VCALENDAR