BEGIN:VCALENDAR
VERSION:2.0
PRODID:-//Alumnae Association - ECPv6.15.20//NONSGML v1.0//EN
CALSCALE:GREGORIAN
METHOD:PUBLISH
X-WR-CALNAME:Alumnae Association
X-ORIGINAL-URL:https://alumnae.mtholyoke.edu
X-WR-CALDESC:Events for Alumnae Association
REFRESH-INTERVAL;VALUE=DURATION:PT1H
X-Robots-Tag:noindex
X-PUBLISHED-TTL:PT1H
BEGIN:VTIMEZONE
TZID:America/New_York
BEGIN:DAYLIGHT
TZOFFSETFROM:-0500
TZOFFSETTO:-0400
TZNAME:EDT
DTSTART:20160313T070000
END:DAYLIGHT
BEGIN:STANDARD
TZOFFSETFROM:-0400
TZOFFSETTO:-0500
TZNAME:EST
DTSTART:20161106T060000
END:STANDARD
BEGIN:DAYLIGHT
TZOFFSETFROM:-0500
TZOFFSETTO:-0400
TZNAME:EDT
DTSTART:20170312T070000
END:DAYLIGHT
BEGIN:STANDARD
TZOFFSETFROM:-0400
TZOFFSETTO:-0500
TZNAME:EST
DTSTART:20171105T060000
END:STANDARD
BEGIN:DAYLIGHT
TZOFFSETFROM:-0500
TZOFFSETTO:-0400
TZNAME:EDT
DTSTART:20180311T070000
END:DAYLIGHT
BEGIN:STANDARD
TZOFFSETFROM:-0400
TZOFFSETTO:-0500
TZNAME:EST
DTSTART:20181104T060000
END:STANDARD
END:VTIMEZONE
BEGIN:VEVENT
DTSTART;TZID=America/New_York:20170128T110000
DTEND;TZID=America/New_York:20170128T130000
DTSTAMP:20260422T182016
CREATED:20161031T190619Z
LAST-MODIFIED:20161031T190619Z
UID:64954-1485601200-1485608400@alumnae.mtholyoke.edu
SUMMARY:Club of Houston Birds and Brunch (Houston\, TX)
DESCRIPTION:Barbara Massey ’53 offers an informative discussion of the delights of birdwatching in Texas during a cozy brunch hosted by Club VP Raluca Dalea ’01. Voluntary donations at the door will benefit the Club scholarship fund.
URL:https://alumnae.mtholyoke.edu/event/club-of-houston-birds-and-brunch-houston-tx/
LOCATION:Houston\, Texas
CATEGORIES:Club
END:VEVENT
BEGIN:VEVENT
DTSTART;TZID=America/New_York:20170128T150000
DTEND;TZID=America/New_York:20170128T170000
DTSTAMP:20260422T182016
CREATED:20170104T164545Z
LAST-MODIFIED:20170104T164645Z
UID:72193-1485615600-1485622800@alumnae.mtholyoke.edu
SUMMARY:Club of Washington\, DC\, J-Term Class: Mastering the Confidence Code (Bethesda\, MD)
DESCRIPTION:We all know confidence when we see it. Women in today’s workplace at all levels are striving to increase their level of confidence—whether as interns in a new organizations or senior partners at a law firm. \nBased upon research in the field\, Wendy Swire ’85 will outline the top strategies to understand what causes the confidence gap for women. She will draw upon the work of journalists Shipman and Kay as well as new information from the field of neuroscience. The new art and science of understanding confidence will help Mount Holyoke alums and interns in all fields and roles. \nRegister here
URL:https://alumnae.mtholyoke.edu/event/club-of-washington-dc-j-term-class-mastering-the-confidence-code-bethesda-md/
LOCATION:Private Residence\, Bethesda\, MD\, 20814\, United States
CATEGORIES:Club
END:VEVENT
BEGIN:VEVENT
DTSTART;TZID=America/New_York:20170128T183000
DTEND;TZID=America/New_York:20170128T213000
DTSTAMP:20260422T182016
CREATED:20170119T150423Z
LAST-MODIFIED:20170119T150423Z
UID:73710-1485628200-1485639000@alumnae.mtholyoke.edu
SUMMARY:Club of Washington\, DC\, J-Term Class: Entertaining on a Small Scale (Washington\, DC)
DESCRIPTION:Throwing a party can be fun\, but what about a smaller party? How do you ensure your guests are comfortable and engaged? Join our class to learn! \nMaria Sherry Murphy ’82 and Radley Emes ’00 will teach you how to host great parties with tips from the pros\, including essential party menu items and practice in creating a signature cocktail for your event. \nRegister here
URL:https://alumnae.mtholyoke.edu/event/club-of-washington-dc-j-term-class-entertaining-on-a-small-scale-washington-dc/
LOCATION:Private Residence\, Washington\, DC\, United States
CATEGORIES:Club
END:VEVENT
END:VCALENDAR