BEGIN:VCALENDAR
VERSION:2.0
PRODID:-//Alumnae Association - ECPv6.15.20//NONSGML v1.0//EN
CALSCALE:GREGORIAN
METHOD:PUBLISH
X-ORIGINAL-URL:https://alumnae.mtholyoke.edu
X-WR-CALDESC:Events for Alumnae Association
REFRESH-INTERVAL;VALUE=DURATION:PT1H
X-Robots-Tag:noindex
X-PUBLISHED-TTL:PT1H
BEGIN:VTIMEZONE
TZID:America/New_York
BEGIN:DAYLIGHT
TZOFFSETFROM:-0500
TZOFFSETTO:-0400
TZNAME:EDT
DTSTART:20160313T070000
END:DAYLIGHT
BEGIN:STANDARD
TZOFFSETFROM:-0400
TZOFFSETTO:-0500
TZNAME:EST
DTSTART:20161106T060000
END:STANDARD
BEGIN:DAYLIGHT
TZOFFSETFROM:-0500
TZOFFSETTO:-0400
TZNAME:EDT
DTSTART:20170312T070000
END:DAYLIGHT
BEGIN:STANDARD
TZOFFSETFROM:-0400
TZOFFSETTO:-0500
TZNAME:EST
DTSTART:20171105T060000
END:STANDARD
BEGIN:DAYLIGHT
TZOFFSETFROM:-0500
TZOFFSETTO:-0400
TZNAME:EDT
DTSTART:20180311T070000
END:DAYLIGHT
BEGIN:STANDARD
TZOFFSETFROM:-0400
TZOFFSETTO:-0500
TZNAME:EST
DTSTART:20181104T060000
END:STANDARD
END:VTIMEZONE
BEGIN:VEVENT
DTSTART;TZID=America/New_York:20170129T133000
DTEND;TZID=America/New_York:20170129T153000
DTSTAMP:20260422T182046
CREATED:20161220T204056Z
LAST-MODIFIED:20161220T204056Z
UID:70631-1485696600-1485703800@alumnae.mtholyoke.edu
SUMMARY:Club of Washington\, DC\, Family History Research 101 Class (Washington\, DC)
DESCRIPTION:Join Marion Fitch Connell ’62 as she guides participants in relating family history to coinciding world events of the time. The class will focus on the basics of ancestry mapping\, but may also be of interest to those with some experience. Please bring fully charged laptop or tablet. \nParticipants should visit Ancestry a few days before class to sign up for a free 14-day trial membership and enter personal data\, plus that of parents and grandparents. Leaving blanks is okay. \nRSVP here
URL:https://alumnae.mtholyoke.edu/event/club-of-washington-dc-family-history-research-101-class-washington-dc/
LOCATION:Private Residence\, Washington\, DC\, 20016\, United States
CATEGORIES:Club
END:VEVENT
BEGIN:VEVENT
DTSTART;TZID=America/New_York:20170129T133000
DTEND;TZID=America/New_York:20170129T163000
DTSTAMP:20260422T182046
CREATED:20170126T151218Z
LAST-MODIFIED:20170126T151236Z
UID:74183-1485696600-1485707400@alumnae.mtholyoke.edu
SUMMARY:Club of Boston Dirty Dancing Screening (Boston\, MA)
DESCRIPTION:Join the Mount Holyoke Club of Boston in celebrating the 30th anniversary of Dirty Dancing as it returns to the big screen! \nPurchase your tickets online as soon as you can as this is a public event and tickets are selling very quickly! \nOnce at the cinema website\, select January 29 and then the 2:00 p.m. showing to purchase your tickets. Tickets are $12.50 plus a $2.00 convenience fee. \nMeet fellow alumnae near the concession stand (we’ll be recognizable) between 1:30 and 2:00 and\, if there’s interest\, we can go out together after the show! We are currently planning to walk over to the Yardehouse afterwards.
URL:https://alumnae.mtholyoke.edu/event/club-of-boston-dirty-dancing-screening-boston-ma/
LOCATION:Regal Cinemas Fenway\, 201 Brookline Avenue\, Boston\, MA\, 02215\, United States
CATEGORIES:Club
END:VEVENT
BEGIN:VEVENT
DTSTART;TZID=America/New_York:20170129T170000
DTEND;TZID=America/New_York:20170129T170000
DTSTAMP:20260422T182046
CREATED:20170119T153638Z
LAST-MODIFIED:20170119T153638Z
UID:73718-1485709200-1485709200@alumnae.mtholyoke.edu
SUMMARY:Club of Southern California Book Club Meeting (Los Angeles\, CA)
DESCRIPTION:Please join the Mount Holyoke Club of Southern California for the first read of 2017 for the 10th anniversary of the SoCal Book Club! \nBook: Telex from Cuba by Rachel Kushner\nFood and drink: All are asked to bring an item to share for a casual potluck meal. Attendance is generally 8-10. \nPlease RSVP to Jennifer Wirth Symington ’87.
URL:https://alumnae.mtholyoke.edu/event/club-of-southern-california-book-club-meeting-los-angeles-ca-3/
LOCATION:Private Residence\, Los Angeles\, CA\, United States
CATEGORIES:Club
END:VEVENT
END:VCALENDAR