BEGIN:VCALENDAR
VERSION:2.0
PRODID:-//Alumnae Association - ECPv6.15.20//NONSGML v1.0//EN
CALSCALE:GREGORIAN
METHOD:PUBLISH
X-WR-CALNAME:Alumnae Association
X-ORIGINAL-URL:https://alumnae.mtholyoke.edu
X-WR-CALDESC:Events for Alumnae Association
REFRESH-INTERVAL;VALUE=DURATION:PT1H
X-Robots-Tag:noindex
X-PUBLISHED-TTL:PT1H
BEGIN:VTIMEZONE
TZID:America/New_York
BEGIN:DAYLIGHT
TZOFFSETFROM:-0500
TZOFFSETTO:-0400
TZNAME:EDT
DTSTART:20160313T070000
END:DAYLIGHT
BEGIN:STANDARD
TZOFFSETFROM:-0400
TZOFFSETTO:-0500
TZNAME:EST
DTSTART:20161106T060000
END:STANDARD
BEGIN:DAYLIGHT
TZOFFSETFROM:-0500
TZOFFSETTO:-0400
TZNAME:EDT
DTSTART:20170312T070000
END:DAYLIGHT
BEGIN:STANDARD
TZOFFSETFROM:-0400
TZOFFSETTO:-0500
TZNAME:EST
DTSTART:20171105T060000
END:STANDARD
BEGIN:DAYLIGHT
TZOFFSETFROM:-0500
TZOFFSETTO:-0400
TZNAME:EDT
DTSTART:20180311T070000
END:DAYLIGHT
BEGIN:STANDARD
TZOFFSETFROM:-0400
TZOFFSETTO:-0500
TZNAME:EST
DTSTART:20181104T060000
END:STANDARD
END:VTIMEZONE
BEGIN:VEVENT
DTSTART;TZID=America/New_York:20170131T180000
DTEND;TZID=America/New_York:20170131T210000
DTSTAMP:20260420T155915
CREATED:20170104T165024Z
LAST-MODIFIED:20170104T165024Z
UID:72200-1485885600-1485896400@alumnae.mtholyoke.edu
SUMMARY:Club of Washington\, DC\, J-Term Class: World Salt Tasting (Washington\, DC)
DESCRIPTION:From course Himalayan Pink to smoky Danish Viking\, there is a plethora of sea salts from which to choose. From Smoked to Infused\, try a variety of different sea salts and learn what the fuss about salt is! Why not sample a few! \nJoin Monica Grover ’99 co-owner of Bazaar Spices and learn about the various types of salts from sea harvested to mined. Venture with us on a journey through the world of salt as you hear about different techniques to enhance the flavor of your meals\, and sample some of the exciting salts we offer. \nRegister here
URL:https://alumnae.mtholyoke.edu/event/club-of-washington-dc-j-term-class-world-salt-tasting-washington-dc/
CATEGORIES:Club
END:VEVENT
END:VCALENDAR