BEGIN:VCALENDAR
VERSION:2.0
PRODID:-//Alumnae Association - ECPv6.15.20//NONSGML v1.0//EN
CALSCALE:GREGORIAN
METHOD:PUBLISH
X-WR-CALNAME:Alumnae Association
X-ORIGINAL-URL:https://alumnae.mtholyoke.edu
X-WR-CALDESC:Events for Alumnae Association
REFRESH-INTERVAL;VALUE=DURATION:PT1H
X-Robots-Tag:noindex
X-PUBLISHED-TTL:PT1H
BEGIN:VTIMEZONE
TZID:America/New_York
BEGIN:DAYLIGHT
TZOFFSETFROM:-0500
TZOFFSETTO:-0400
TZNAME:EDT
DTSTART:20160313T070000
END:DAYLIGHT
BEGIN:STANDARD
TZOFFSETFROM:-0400
TZOFFSETTO:-0500
TZNAME:EST
DTSTART:20161106T060000
END:STANDARD
BEGIN:DAYLIGHT
TZOFFSETFROM:-0500
TZOFFSETTO:-0400
TZNAME:EDT
DTSTART:20170312T070000
END:DAYLIGHT
BEGIN:STANDARD
TZOFFSETFROM:-0400
TZOFFSETTO:-0500
TZNAME:EST
DTSTART:20171105T060000
END:STANDARD
BEGIN:DAYLIGHT
TZOFFSETFROM:-0500
TZOFFSETTO:-0400
TZNAME:EDT
DTSTART:20180311T070000
END:DAYLIGHT
BEGIN:STANDARD
TZOFFSETFROM:-0400
TZOFFSETTO:-0500
TZNAME:EST
DTSTART:20181104T060000
END:STANDARD
END:VTIMEZONE
BEGIN:VEVENT
DTSTART;TZID=America/New_York:20170223T190000
DTEND;TZID=America/New_York:20170223T190000
DTSTAMP:20260423T085147
CREATED:20170126T155918Z
LAST-MODIFIED:20170126T155918Z
UID:74221-1487876400-1487876400@alumnae.mtholyoke.edu
SUMMARY:Club of the Peninsula Happy Hour (Sunnyvale\, CA)
DESCRIPTION:Join the Mount Holyoke Club of the Peninsula for happy hour at The Oxford\, an easy five-minute walk from the Sunnyvale Caltrain Station. \nRSVP to Marie Weber. \nSee you there!
URL:https://alumnae.mtholyoke.edu/event/club-of-the-peninsula-happy-hour-sunnyvale-ca/
LOCATION:The Oxford\, 195 S Murphy Avenue\, Sunnyvale\, CA\, 94086\, United States
CATEGORIES:Club
END:VEVENT
END:VCALENDAR