BEGIN:VCALENDAR
VERSION:2.0
PRODID:-//Alumnae Association - ECPv6.15.20//NONSGML v1.0//EN
CALSCALE:GREGORIAN
METHOD:PUBLISH
X-WR-CALNAME:Alumnae Association
X-ORIGINAL-URL:https://alumnae.mtholyoke.edu
X-WR-CALDESC:Events for Alumnae Association
REFRESH-INTERVAL;VALUE=DURATION:PT1H
X-Robots-Tag:noindex
X-PUBLISHED-TTL:PT1H
BEGIN:VTIMEZONE
TZID:America/New_York
BEGIN:DAYLIGHT
TZOFFSETFROM:-0500
TZOFFSETTO:-0400
TZNAME:EDT
DTSTART:20160313T070000
END:DAYLIGHT
BEGIN:STANDARD
TZOFFSETFROM:-0400
TZOFFSETTO:-0500
TZNAME:EST
DTSTART:20161106T060000
END:STANDARD
BEGIN:DAYLIGHT
TZOFFSETFROM:-0500
TZOFFSETTO:-0400
TZNAME:EDT
DTSTART:20170312T070000
END:DAYLIGHT
BEGIN:STANDARD
TZOFFSETFROM:-0400
TZOFFSETTO:-0500
TZNAME:EST
DTSTART:20171105T060000
END:STANDARD
BEGIN:DAYLIGHT
TZOFFSETFROM:-0500
TZOFFSETTO:-0400
TZNAME:EDT
DTSTART:20180311T070000
END:DAYLIGHT
BEGIN:STANDARD
TZOFFSETFROM:-0400
TZOFFSETTO:-0500
TZNAME:EST
DTSTART:20181104T060000
END:STANDARD
END:VTIMEZONE
BEGIN:VEVENT
DTSTART;TZID=America/New_York:20170420T183000
DTEND;TZID=America/New_York:20170420T183000
DTSTAMP:20260421T202915
CREATED:20170410T152827Z
LAST-MODIFIED:20170410T175355Z
UID:79944-1492713000-1492713000@alumnae.mtholyoke.edu
SUMMARY:Club of Austin Museum Tour (Austin\, TX)
DESCRIPTION:The Mount Holyoke Club of Austin will be meeting Thursday\, April 20th at 6:30 p.m. at the Blanton Museum for its first exhibit of the Contemporary Project\, which features artist Susan Philipsz’s multimedia piece Part File Score. \nFor those who may be interested\, there will be a concert from 5:30-6:30 p.m. at the museum featuring new music selected to go along with the Blanton’s collection of contemporary art \, presented by composer and multi-instrumentalist Peter Stopschinski. \nPlease come meet the club for an evening at the museum. We will meet at 6:30 p.m. and viewing exhibits; followed by the option for light dinner and wine in the museum cafe. \nRSVP to Catherine Ingersoll.
URL:https://alumnae.mtholyoke.edu/event/club-of-austin-museum-tour-austin-tx/
LOCATION:The Blanton Museum\, 200 E Martin Luther King Jr Blvd\, Austin\, TX\, 78701\, United States
CATEGORIES:Club
END:VEVENT
END:VCALENDAR